BEGIN:VCALENDAR
VERSION:2.0
PRODID:NCyTE Center Calendar Creator
METHOD:PUBLISH
BEGIN:VEVENT
DTSTAMP:20240206T095719
DTSTART:20240216T090000
DTEND:20240216T100000
SUMMARY:NCyTE Member Meeting
DESCRIPTION:<p style="text-align: center;"></p><p style="text-align: center;">Monthly Member Meeting - Virtual</p><p style="text-align: center;">Friday, February 26, 2024</p><p style="text-align: center;"><span style="color: rgb(0, 48, 92); font-family: inherit; font-size: 32px; font-weight: 600; text-align: left;">AI Trainer Toolkit</span></p><p data-wacontent="15" data-wacontenttag="P" align="center"><strong data-wacontent="16" data-wacontenttag="STRONG">Harnessing the power of AI to build tomorrow’s cybersecurity workforce!</strong><br data-wacontent="18" data-wacontenttag="BR"></p><p data-wacontent="23" data-wacontenttag="P" align="left"></p><p data-wacontent="25" data-wacontenttag="P">At this month's membership meeting, Courtney Dodge and Mary Downes discuss how Microsoft is harnessing AI to build tomorrow's workforce!</p><p data-wacontent="29" data-wacontenttag="P">Microsoft has developed a robust program to upskill the workforce including a trainer toolkit, learning modules, blog, and other resources for educators. At the meeting, Courtney and Mary will give us a glimpse into Microsoft's current efforts to leverage AI, including a review of the AI Trainer Toolkit.&nbsp;</p><p data-wacontent="33" data-wacontenttag="P">&nbsp;</p><p data-wacontent="36" data-wacontenttag="P"><strong data-wacontent="38" data-wacontenttag="STRONG">Courtney Hodge (SHE/HER)</strong></p><p data-wacontent="39" data-wacontenttag="P">As a program manager for inclusive learning at Microsoft, I leverage my instructional design skills and my passion for technology to create and deliver engaging and accessible learning experiences for educators and students. I have been working in this role for over three years, and I am constantly learning new ways to incorporate Microsoft 365, computer programming, and generative AI into my projects and programs.</p><p data-wacontent="39" data-wacontenttag="P" _rdeditor_exists="1">&nbsp;</p><abbr data-wawebkitcopymarker="1707241149639">&nbsp;</abbr><p data-wacontent="46" data-wacontenttag="P"><strong data-wacontent="48" data-wacontenttag="STRONG">Mary Downes (She/Her)</strong></p><p data-wacontent="49" data-wacontenttag="P">My professional mission revolves around democratizing education and breaking down barriers for learners. Currently, I collaborate with international teams to develop and manage digital skilling content and support programs for organizations worldwide. Drawing from my fourteen years of experience in the field of education, I find immense satisfaction in crafting inclusive learning experiences that transcend boundaries, ensuring accessibility and skilling for all.</p><p data-wacontent="49" data-wacontenttag="P">&nbsp;</p><p data-wacontent="49" data-wacontenttag="P"><hr></p><p data-wacontent="49" data-wacontenttag="P" style="text-align: left;">&nbsp;NCyTE is funded by the National Science Foundation grant #2054724.<abbr data-wawebkitcopymarker="1707241579689">&nbsp;</abbr></p>
X-ALT-DESC;FMTTYPE=text/html:<p style="text-align: center;"></p><p style="text-align: center;">Monthly Member Meeting - Virtual</p><p style="text-align: center;">Friday, February 26, 2024</p><p style="text-align: center;"><span style="color: rgb(0, 48, 92); font-family: inherit; font-size: 32px; font-weight: 600; text-align: left;">AI Trainer Toolkit</span></p><p data-wacontent="15" data-wacontenttag="P" align="center"><strong data-wacontent="16" data-wacontenttag="STRONG">Harnessing the power of AI to build tomorrow’s cybersecurity workforce!</strong><br data-wacontent="18" data-wacontenttag="BR"></p><p data-wacontent="23" data-wacontenttag="P" align="left"></p><p data-wacontent="25" data-wacontenttag="P">At this month's membership meeting, Courtney Dodge and Mary Downes discuss how Microsoft is harnessing AI to build tomorrow's workforce!</p><p data-wacontent="29" data-wacontenttag="P">Microsoft has developed a robust program to upskill the workforce including a trainer toolkit, learning modules, blog, and other resources for educators. At the meeting, Courtney and Mary will give us a glimpse into Microsoft's current efforts to leverage AI, including a review of the AI Trainer Toolkit.&nbsp;</p><p data-wacontent="33" data-wacontenttag="P">&nbsp;</p><p data-wacontent="36" data-wacontenttag="P"><strong data-wacontent="38" data-wacontenttag="STRONG">Courtney Hodge (SHE/HER)</strong></p><p data-wacontent="39" data-wacontenttag="P">As a program manager for inclusive learning at Microsoft, I leverage my instructional design skills and my passion for technology to create and deliver engaging and accessible learning experiences for educators and students. I have been working in this role for over three years, and I am constantly learning new ways to incorporate Microsoft 365, computer programming, and generative AI into my projects and programs.</p><p data-wacontent="39" data-wacontenttag="P" _rdeditor_exists="1">&nbsp;</p><abbr data-wawebkitcopymarker="1707241149639">&nbsp;</abbr><p data-wacontent="46" data-wacontenttag="P"><strong data-wacontent="48" data-wacontenttag="STRONG">Mary Downes (She/Her)</strong></p><p data-wacontent="49" data-wacontenttag="P">My professional mission revolves around democratizing education and breaking down barriers for learners. Currently, I collaborate with international teams to develop and manage digital skilling content and support programs for organizations worldwide. Drawing from my fourteen years of experience in the field of education, I find immense satisfaction in crafting inclusive learning experiences that transcend boundaries, ensuring accessibility and skilling for all.</p><p data-wacontent="49" data-wacontenttag="P">&nbsp;</p><p data-wacontent="49" data-wacontenttag="P"><hr></p><p data-wacontent="49" data-wacontenttag="P" style="text-align: left;">&nbsp;NCyTE is funded by the National Science Foundation grant #2054724.<abbr data-wawebkitcopymarker="1707241579689">&nbsp;</abbr></p>
LOCATION:
CLASS:PUBLIC
END:VEVENT
END:VCALENDAR
