BEGIN:VCALENDAR
VERSION:2.0
PRODID:NCyTE Center Calendar Creator
METHOD:PUBLISH
BEGIN:VEVENT
DTSTAMP:20230921T115626
DTSTART:20240123T080000
DTEND:20240126T170000
SUMMARY:AACC Workforce Development Institute
DESCRIPTION:<p style="text-align: center;">&nbsp;Workforce Development Institute Conference</p><p style="text-align: center;">BRIDGES</p><p style="text-align: center;">January 23 -26, 2024</p><p style="text-align: center;">New Orleans, LA</p><p>The American Association of Community Colleges (AACC) is proud to present our annual Workforce Development Institute (WDI). WDI 2024 is the premier annual convening for new and seasoned community college-based workforce and economic development professionals. WDI 2024 will be held January 23-26, 2024.</p><p>Our program will feature an array of perspectives highlighting innovative strategies and promising practices to support your workforce and economic development efforts.</p><p style="text-align: center;"><a href="https://web.cvent.com/event/f8264da2-fa04-472a-a09e-e89562666eff/summary" target="_blank">REGISTER TO ATTEND</a></p>
X-ALT-DESC;FMTTYPE=text/html:<p style="text-align: center;">&nbsp;Workforce Development Institute Conference</p><p style="text-align: center;">BRIDGES</p><p style="text-align: center;">January 23 -26, 2024</p><p style="text-align: center;">New Orleans, LA</p><p>The American Association of Community Colleges (AACC) is proud to present our annual Workforce Development Institute (WDI). WDI 2024 is the premier annual convening for new and seasoned community college-based workforce and economic development professionals. WDI 2024 will be held January 23-26, 2024.</p><p>Our program will feature an array of perspectives highlighting innovative strategies and promising practices to support your workforce and economic development efforts.</p><p style="text-align: center;"><a href="https://web.cvent.com/event/f8264da2-fa04-472a-a09e-e89562666eff/summary" target="_blank">REGISTER TO ATTEND</a></p>
LOCATION:New Orleans\, Louisiana 
CLASS:PUBLIC
END:VEVENT
END:VCALENDAR
