BEGIN:VCALENDAR
VERSION:2.0
PRODID:NCyTE Center Calendar Creator
METHOD:PUBLISH
BEGIN:VEVENT
DTSTAMP:20231130T113240
DTSTART:20240119T090000
DTEND:20240119T100000
SUMMARY:NCyTE Member Meeting
DESCRIPTION:<p style="text-align: center;"></p><p style="text-align: center;">Monthly Member Meeting - Virtual / 9:00 AM PST</p><p style="text-align: center;">Friday, January 19, 2024</p><p style="text-align: center;"><strong>Virtual Cybersecurity Career Challenge</strong></p><p align="center"><strong>Do you have a team of students looking for real-world experience working in cybersecurity?</strong></p><p>Finding employment in cybersecurity without experience can be daunting and intimidating. The Virtual Cybersecurity Career Challenge is designed to give your students a real-world experience they can add to their resume and highlight to potential employers.</p><p><strong><span style="color: rgb(0, 32, 96);">Virtual Cyber Career Challenge Outcome</span></strong></p><ul>    <li><span style="text-align: center;">Develop a project plan for an Information System that supports a fictitious business.</span></li>    <li><span style="text-align: center;">&nbsp;</span><span style="text-align: center;">Utilize project management tools for communication and project implementation.</span></li>    <li><span style="text-align: center;">&nbsp;</span><span style="text-align: center;">Operate a network of nine devices within specific technical requirements</span></li>    <li><span style="text-align: center;">&nbsp;</span><span style="text-align: center;">Defend the network against a penetration test.</span></li>    <li><span style="text-align: center;">&nbsp;</span><span style="text-align: center;">Analyze the network for evidence of attacks or compromise resulting from penetration testing.</span></li></ul><p style="text-align: left;"><strong><strong><span style="color: rgb(0, 32, 96);">Cyber Career Challenge Proposed Schedule</span></strong><br><div style="text-align: left;"></div></strong><ul>    <li style="text-align: left;">March 4 - Workshop begins: Introduction to program work roles</li>    <li style="text-align: left;">March 11 - Introduction to the network requirements and team selection</li>    <li style="text-align: left;">March 18 - Network admin basics, Kanban, Gantt charts, Visio diagrams</li>    <li style="text-align: left;">March 25 to&nbsp; May 3 - Teams work independently and receive guidance on network management and pentest prep</li>    <li style="text-align: left;">May 6 - Pentest</li>    <li style="text-align: left;">May 9 - Team presentations</li>    <li style="text-align: left;">September 13 (Optional) Virtual Career Fair</li></ul><div style="text-align: left;">College credit&nbsp;- Students have earned credits through their institution for completing the VCCC.&nbsp;&nbsp;Students should contact their program advisor to find out if the VCCC meets their institution's requirements for credit.&nbsp;</div></p><p style="text-align: center;"><strong></strong><a href="	https://ncytecenter.wildapricot.org/event-5492872 " target="_blank"><span style="background-color: rgb(183, 221, 232);"><strong>&nbsp;REGISTER TO ATTEND</strong></span></a><hr></p><p style="text-align: left;"></p><p style="text-align: left;">&nbsp;</p><p style="text-align: left;">The Virtual Career Challenge is run by Vincent Nestler, Associate Professor at Cal State University - San Bernardino, Senior Personnel&nbsp; - NCyTE Center</p><p style="text-align: left;">&nbsp;</p><p style="text-align: left;">&nbsp;</p><p style="text-align: left;">&nbsp;</p><p style="text-align: left;">&nbsp;<hr></p><p style="text-align: left;"><em></em></p><p style="text-align: left;"><em>&nbsp;</em></p><p style="text-align: left;"><em>NCyTE is funded by the National Science Foundation grant #2054724</em></p>
X-ALT-DESC;FMTTYPE=text/html:<p style="text-align: center;"></p><p style="text-align: center;">Monthly Member Meeting - Virtual / 9:00 AM PST</p><p style="text-align: center;">Friday, January 19, 2024</p><p style="text-align: center;"><strong>Virtual Cybersecurity Career Challenge</strong></p><p align="center"><strong>Do you have a team of students looking for real-world experience working in cybersecurity?</strong></p><p>Finding employment in cybersecurity without experience can be daunting and intimidating. The Virtual Cybersecurity Career Challenge is designed to give your students a real-world experience they can add to their resume and highlight to potential employers.</p><p><strong><span style="color: rgb(0, 32, 96);">Virtual Cyber Career Challenge Outcome</span></strong></p><ul>    <li><span style="text-align: center;">Develop a project plan for an Information System that supports a fictitious business.</span></li>    <li><span style="text-align: center;">&nbsp;</span><span style="text-align: center;">Utilize project management tools for communication and project implementation.</span></li>    <li><span style="text-align: center;">&nbsp;</span><span style="text-align: center;">Operate a network of nine devices within specific technical requirements</span></li>    <li><span style="text-align: center;">&nbsp;</span><span style="text-align: center;">Defend the network against a penetration test.</span></li>    <li><span style="text-align: center;">&nbsp;</span><span style="text-align: center;">Analyze the network for evidence of attacks or compromise resulting from penetration testing.</span></li></ul><p style="text-align: left;"><strong><strong><span style="color: rgb(0, 32, 96);">Cyber Career Challenge Proposed Schedule</span></strong><br><div style="text-align: left;"></div></strong><ul>    <li style="text-align: left;">March 4 - Workshop begins: Introduction to program work roles</li>    <li style="text-align: left;">March 11 - Introduction to the network requirements and team selection</li>    <li style="text-align: left;">March 18 - Network admin basics, Kanban, Gantt charts, Visio diagrams</li>    <li style="text-align: left;">March 25 to&nbsp; May 3 - Teams work independently and receive guidance on network management and pentest prep</li>    <li style="text-align: left;">May 6 - Pentest</li>    <li style="text-align: left;">May 9 - Team presentations</li>    <li style="text-align: left;">September 13 (Optional) Virtual Career Fair</li></ul><div style="text-align: left;">College credit&nbsp;- Students have earned credits through their institution for completing the VCCC.&nbsp;&nbsp;Students should contact their program advisor to find out if the VCCC meets their institution's requirements for credit.&nbsp;</div></p><p style="text-align: center;"><strong></strong><a href="	https://ncytecenter.wildapricot.org/event-5492872 " target="_blank"><span style="background-color: rgb(183, 221, 232);"><strong>&nbsp;REGISTER TO ATTEND</strong></span></a><hr></p><p style="text-align: left;"></p><p style="text-align: left;">&nbsp;</p><p style="text-align: left;">The Virtual Career Challenge is run by Vincent Nestler, Associate Professor at Cal State University - San Bernardino, Senior Personnel&nbsp; - NCyTE Center</p><p style="text-align: left;">&nbsp;</p><p style="text-align: left;">&nbsp;</p><p style="text-align: left;">&nbsp;</p><p style="text-align: left;">&nbsp;<hr></p><p style="text-align: left;"><em></em></p><p style="text-align: left;"><em>&nbsp;</em></p><p style="text-align: left;"><em>NCyTE is funded by the National Science Foundation grant #2054724</em></p>
LOCATION:Virtual\, 
CLASS:PUBLIC
END:VEVENT
END:VCALENDAR
