BEGIN:VCALENDAR
VERSION:2.0
PRODID:NCyTE Center Calendar Creator
METHOD:PUBLISH
BEGIN:VEVENT
DTSTAMP:20241114T112802
DTSTART:20250101T080000
DTEND:20250101T170000
SUMMARY:College Closed - New Year's Day
DESCRIPTION:<p style="text-align: center;">NCyTE Center at Whatcom Community College will be closed for the holiday - New Year's Day</p>
X-ALT-DESC;FMTTYPE=text/html:<p style="text-align: center;">NCyTE Center at Whatcom Community College will be closed for the holiday - New Year's Day</p>
LOCATION:
CLASS:PUBLIC
END:VEVENT
END:VCALENDAR
