BEGIN:VCALENDAR
VERSION:2.0
PRODID:NCyTE Center Calendar Creator
METHOD:PUBLISH
BEGIN:VEVENT
DTSTAMP:20230921T113444
DTSTART:20241111T000000
DTEND:20241111T235900
SUMMARY:College Closed - Veterans Day
DESCRIPTION:<p style="text-align: center;">NCyTE Center at Whatcom Community College will be closed for a federal holiday - Veterans Day</p>
X-ALT-DESC;FMTTYPE=text/html:<p style="text-align: center;">NCyTE Center at Whatcom Community College will be closed for a federal holiday - Veterans Day</p>
LOCATION:
CLASS:PUBLIC
END:VEVENT
END:VCALENDAR
