BEGIN:VCALENDAR
VERSION:2.0
PRODID:NCyTE Center Calendar Creator
METHOD:PUBLISH
BEGIN:VEVENT
DTSTAMP:20230920T161838
DTSTART:20230921T080000
DTEND:20230921T170000
SUMMARY:Executive Leadership Forum (ELF)
DESCRIPTION:<p>The Executive Leadership Forum (ELF) will take place September 21, 2023 at Moraine Valley Community College in Palos Hills, Illinois. This by-invitation event is held annually to provide Presidents and Executives from the CAE Community an opportunity to network and collaborate with peers, and hear updates on the state of the NCAE-C program.</p><p style="text-align: center;">Invited Key Speakers<br>Mark Gorak, Principal Director for Resources &amp; Analysis for the Department of Defense,<br>Office of the Chief Information Officer<br>Mark Montgomery, Executive Director, Cyberspace Solarium Commission<br>Albert Palacios, Director Cyber Education, Office of the National Cyber Director<br>Neal Ziring, Technical Director, Cybersecurity Directorate, National Security Agency<br>Seniors from the Cybersecurity and Infrastructure Structure Agency (CISA) and<br>the Federal Bureau of Investigation (FBI) are also invited</p>
X-ALT-DESC;FMTTYPE=text/html:<p>The Executive Leadership Forum (ELF) will take place September 21, 2023 at Moraine Valley Community College in Palos Hills, Illinois. This by-invitation event is held annually to provide Presidents and Executives from the CAE Community an opportunity to network and collaborate with peers, and hear updates on the state of the NCAE-C program.</p><p style="text-align: center;">Invited Key Speakers<br>Mark Gorak, Principal Director for Resources &amp; Analysis for the Department of Defense,<br>Office of the Chief Information Officer<br>Mark Montgomery, Executive Director, Cyberspace Solarium Commission<br>Albert Palacios, Director Cyber Education, Office of the National Cyber Director<br>Neal Ziring, Technical Director, Cybersecurity Directorate, National Security Agency<br>Seniors from the Cybersecurity and Infrastructure Structure Agency (CISA) and<br>the Federal Bureau of Investigation (FBI) are also invited</p>
LOCATION:Moraine Valley Community College\, 
CLASS:PUBLIC
END:VEVENT
END:VCALENDAR
