BEGIN:VCALENDAR
VERSION:2.0
PRODID:NCyTE Center Calendar Creator
METHOD:PUBLISH
BEGIN:VEVENT
DTSTAMP:20230912T084416
DTSTART:20231026T090000
DTEND:20231026T150000
SUMMARY:NCW Cybersecurity Summit - 2023
DESCRIPTION:<p style="text-align: center;"></p><p>Business, education, technology, and community partners will come together on Thursday, October 26 for a day of learning in a collaborative environment; we'll delve into the current cybersecurity landscape in all sectors, including business and education. The event will feature presentations from cybersecurity professionals, as well as dedicated time for further discussion and connection.</p><p style="text-align: center;"><a href="https://www.eventbrite.com/e/2023-ncw-cybersecurity-summit-tickets-717838764067?utm_source=newsletter&amp;utm_medium=email&amp;utm_campaign=ncw_cybersecurity_summit_free_networking_and_learning_event_in_wenatchee&amp;utm_term=2023-09-12" target="_blank">REGISTER TO ATTEND</a></p><p>Can’t attend the event?&nbsp;<a href="https://subscribe.ncesd.org/cybersecurity" target="_blank" rel="nofollow noopener noreferrer" data-airgap-id="43">Sign up for their mailing list</a>&nbsp;to receive update emails on future meetings.</p><h3>Event highlights:</h3><ul>    <li>Free event for business, education and technology professionals interested in conversations about cybersecurity in North Central Washington and the state.</li></ul><ul>    <li>4 sessions featuring cybersecurity experts discussing the role of cybersecurity in all sectors. Our presenter list and session titles will be released soon!</li></ul><ul>    <li>Time for networking during designated breaks and lunch will be provided.</li></ul>
X-ALT-DESC;FMTTYPE=text/html:<p style="text-align: center;"></p><p>Business, education, technology, and community partners will come together on Thursday, October 26 for a day of learning in a collaborative environment; we'll delve into the current cybersecurity landscape in all sectors, including business and education. The event will feature presentations from cybersecurity professionals, as well as dedicated time for further discussion and connection.</p><p style="text-align: center;"><a href="https://www.eventbrite.com/e/2023-ncw-cybersecurity-summit-tickets-717838764067?utm_source=newsletter&amp;utm_medium=email&amp;utm_campaign=ncw_cybersecurity_summit_free_networking_and_learning_event_in_wenatchee&amp;utm_term=2023-09-12" target="_blank">REGISTER TO ATTEND</a></p><p>Can’t attend the event?&nbsp;<a href="https://subscribe.ncesd.org/cybersecurity" target="_blank" rel="nofollow noopener noreferrer" data-airgap-id="43">Sign up for their mailing list</a>&nbsp;to receive update emails on future meetings.</p><h3>Event highlights:</h3><ul>    <li>Free event for business, education and technology professionals interested in conversations about cybersecurity in North Central Washington and the state.</li></ul><ul>    <li>4 sessions featuring cybersecurity experts discussing the role of cybersecurity in all sectors. Our presenter list and session titles will be released soon!</li></ul><ul>    <li>Time for networking during designated breaks and lunch will be provided.</li></ul>
LOCATION:Wenatchee Convention Center\, 121 North Wenatchee Avenue Wenatchee\, Washington 98801
CLASS:PUBLIC
END:VEVENT
END:VCALENDAR
