BEGIN:VCALENDAR
VERSION:2.0
PRODID:NCyTE Center Calendar Creator
METHOD:PUBLISH
BEGIN:VEVENT
DTSTAMP:20230912T083838
DTSTART:20230912T090000
DTEND:20230912T100000
SUMMARY:CAE September Virtual Meet Up
DESCRIPTION:
X-ALT-DESC;FMTTYPE=text/html:
LOCATION:Virtual\, 
CLASS:PUBLIC
END:VEVENT
END:VCALENDAR
