BEGIN:VCALENDAR
VERSION:2.0
PRODID:NCyTE Center Calendar Creator
METHOD:PUBLISH
BEGIN:VEVENT
DTSTAMP:20230908T103233
DTSTART:20231021T090000
DTEND:20231021T120000
SUMMARY:Tribal College Community of Practice  Kick-Off Meeting
DESCRIPTION:<p style="text-align: center;"></p><p align="center"><strong><span style="color: rgb(255, 0, 0);">INVITATION ONLY</span></strong></p><p align="center"><strong>Tribal College Community of Practice</strong></p><p align="center"><strong>Kick-Off Meeting</strong></p><p align="center">In-Person | October&nbsp;21, 2023<strong><br><strong>9:00 AM - 12:00 PM Pacific</strong></strong></p><p align="center">Location:</p><p align="center">Spokane Convention Center</p><p align="center">334 West Spokane Falls Blvd.</p><p align="center">Spokane, WA 99201</p><p align="center"><em style="text-align: left;">Room 401A in Conference Center</em></p><p align="center" style="text-align: left;"><em style="text-align: left;"><hr></em></p><p><strong>Who Should Attend:</strong></p><p>Cybersecurity and/or IT related faculty from regionally accredited tribal community colleges and tribal universities that offer associate degree programs and are interested in collaborating with other tribal colleges and universities to build and enhance cybersecurity education at their institutions.</p><p><strong>About the Program:</strong></p><p>Participants will kick-off the community of practice by attending a 3-hour workshop held at the&nbsp;<a href="https://conference.aises.org/" target="_blank">2023 AISES National Conference</a>&nbsp;in Spokane, WA in October. The&nbsp;<strong>K</strong><strong>ick-Off event</strong>&nbsp;will provide an overview of the Community of Practice Circle and will outline expectations for future meetings. The workshop will provide a platform to explore funding opportunities and services that can enhance classroom instruction and/or assist in developing cyber programs at your institution.&nbsp;</p><p>This will be followed by the&nbsp;<strong>Community of Practice Circle</strong>,&nbsp;which is five virtual meetings scheduled between November 2023 through June 2024. The community decides their own structure and solutions to meet the needs of the individual colleges and universities. Engage in discussions, share best practices, and collaborate with colleagues from other tribal colleges.</p><p>Registration is required for the Tribal Community of Practice Kick-Off meeting.&nbsp; Please register&nbsp;<strong>by September 15, 2023.</strong></p><p align="center" style="text-align: left;"><hr></p><p><strong>Stipends:</strong></p><p>Eligible faculty will receive the following support to attend the&nbsp;<strong>Kick-Off Meeting:</strong></p><ul>    <li>Registration to attend the AISES National Conference in Spokane, WA on October 19-21, 2023</li>    <li>AISES professional membership for one year</li>    <li>A travel stipend up to $1,500 based on distance you live to the venue</li>    <li>Upon receipt of your registration, an NCyTE team member will contact you with information regarding your stipend eligibility and conference registration</li></ul><p>Eligible faculty&nbsp;that continue on and participate in the&nbsp;<strong>Community of Practice Circle</strong>&nbsp;will receive a stipend for the following:</p><ul>    <li>Participation stipend of $1,000 for attending all five virtual meetings between November 2023 to June 2024 and participating in discussions and evaluation</li>    <li>Registration cost and travel stipend up to $1,500 to attend an alternate conference (TBD) in early 2024</li></ul><p align="center" style="text-align: left;"><hr></p><p><strong>Facilitators:</strong></p><ul>    <li><strong>Stephen Miller:&nbsp;&nbsp;</strong>NCyTE Co-Principal Investigator, Professor and Director Cybersecurity Center of Excellence, Eastern New Mexico University - Ruidoso Branch Community College<br>    <br>    </li>    <li><strong>Chad Davis:&nbsp;</strong>&nbsp;IT Director / Cyber Program Director, Turtle Mountain Community College</li></ul><ul>    <li><strong>Zach Oxendine:</strong>&nbsp;Microsoft</li></ul><p><hr></p><p style="text-align: center;"><span style="color: rgb(255, 0, 0);">If you are interested in participating in this Tribal College Community of Practice, please contact Anna Ritchey at aritchey@whatcom.edu.</span></p><p>This event is funded by the Microsoft&nbsp;<a href="https://www.ncyte.net/accce" target="_blank">Accelerating Community College Cybersecurity Excellence (ACCCE)</a>&nbsp;grant&nbsp;awarded to Whatcom Community College (Grant No. 2021080009)</p><p align="center" style="text-align: left;"><div></div></p>
X-ALT-DESC;FMTTYPE=text/html:<p style="text-align: center;"></p><p align="center"><strong><span style="color: rgb(255, 0, 0);">INVITATION ONLY</span></strong></p><p align="center"><strong>Tribal College Community of Practice</strong></p><p align="center"><strong>Kick-Off Meeting</strong></p><p align="center">In-Person | October&nbsp;21, 2023<strong><br><strong>9:00 AM - 12:00 PM Pacific</strong></strong></p><p align="center">Location:</p><p align="center">Spokane Convention Center</p><p align="center">334 West Spokane Falls Blvd.</p><p align="center">Spokane, WA 99201</p><p align="center"><em style="text-align: left;">Room 401A in Conference Center</em></p><p align="center" style="text-align: left;"><em style="text-align: left;"><hr></em></p><p><strong>Who Should Attend:</strong></p><p>Cybersecurity and/or IT related faculty from regionally accredited tribal community colleges and tribal universities that offer associate degree programs and are interested in collaborating with other tribal colleges and universities to build and enhance cybersecurity education at their institutions.</p><p><strong>About the Program:</strong></p><p>Participants will kick-off the community of practice by attending a 3-hour workshop held at the&nbsp;<a href="https://conference.aises.org/" target="_blank">2023 AISES National Conference</a>&nbsp;in Spokane, WA in October. The&nbsp;<strong>K</strong><strong>ick-Off event</strong>&nbsp;will provide an overview of the Community of Practice Circle and will outline expectations for future meetings. The workshop will provide a platform to explore funding opportunities and services that can enhance classroom instruction and/or assist in developing cyber programs at your institution.&nbsp;</p><p>This will be followed by the&nbsp;<strong>Community of Practice Circle</strong>,&nbsp;which is five virtual meetings scheduled between November 2023 through June 2024. The community decides their own structure and solutions to meet the needs of the individual colleges and universities. Engage in discussions, share best practices, and collaborate with colleagues from other tribal colleges.</p><p>Registration is required for the Tribal Community of Practice Kick-Off meeting.&nbsp; Please register&nbsp;<strong>by September 15, 2023.</strong></p><p align="center" style="text-align: left;"><hr></p><p><strong>Stipends:</strong></p><p>Eligible faculty will receive the following support to attend the&nbsp;<strong>Kick-Off Meeting:</strong></p><ul>    <li>Registration to attend the AISES National Conference in Spokane, WA on October 19-21, 2023</li>    <li>AISES professional membership for one year</li>    <li>A travel stipend up to $1,500 based on distance you live to the venue</li>    <li>Upon receipt of your registration, an NCyTE team member will contact you with information regarding your stipend eligibility and conference registration</li></ul><p>Eligible faculty&nbsp;that continue on and participate in the&nbsp;<strong>Community of Practice Circle</strong>&nbsp;will receive a stipend for the following:</p><ul>    <li>Participation stipend of $1,000 for attending all five virtual meetings between November 2023 to June 2024 and participating in discussions and evaluation</li>    <li>Registration cost and travel stipend up to $1,500 to attend an alternate conference (TBD) in early 2024</li></ul><p align="center" style="text-align: left;"><hr></p><p><strong>Facilitators:</strong></p><ul>    <li><strong>Stephen Miller:&nbsp;&nbsp;</strong>NCyTE Co-Principal Investigator, Professor and Director Cybersecurity Center of Excellence, Eastern New Mexico University - Ruidoso Branch Community College<br>    <br>    </li>    <li><strong>Chad Davis:&nbsp;</strong>&nbsp;IT Director / Cyber Program Director, Turtle Mountain Community College</li></ul><ul>    <li><strong>Zach Oxendine:</strong>&nbsp;Microsoft</li></ul><p><hr></p><p style="text-align: center;"><span style="color: rgb(255, 0, 0);">If you are interested in participating in this Tribal College Community of Practice, please contact Anna Ritchey at aritchey@whatcom.edu.</span></p><p>This event is funded by the Microsoft&nbsp;<a href="https://www.ncyte.net/accce" target="_blank">Accelerating Community College Cybersecurity Excellence (ACCCE)</a>&nbsp;grant&nbsp;awarded to Whatcom Community College (Grant No. 2021080009)</p><p align="center" style="text-align: left;"><div></div></p>
LOCATION:Spokane Convention Center\, 334 West Spokane Falls Blvd. Spokane\, Washington 99201
CLASS:PUBLIC
END:VEVENT
END:VCALENDAR
