BEGIN:VCALENDAR
VERSION:2.0
PRODID:NCyTE Center Calendar Creator
METHOD:PUBLISH
BEGIN:VEVENT
DTSTAMP:20230719T164110
DTSTART:20230818T090000
DTEND:20230818T100000
SUMMARY:Monthly Member Meeting
DESCRIPTION:<p style="text-align: center;"></p><p style="text-align: center;">Monthly Member Meeting</p><p align="center"><strong><strong>Cyber Security Evaluation Tool (CSET®)</strong><br></strong></p><p align="center">Friday, August 18, 2023<br>9 am PST</p><p>Join NCyTE at the Monthly Member Meeting to learn how to deploy the Cyber Security Evaluation Tool&nbsp;(CSET®).&nbsp;<span style="text-align: center;">College faculty and industry personnel are encouraged to attend&nbsp;to learn more about the cyber career challenge and CSET®.&nbsp;</span></p><p><span style="text-align: center;"><hr></span></p><p>The Cyber Security Evaluation Tool (CSET®) is a stand-alone desktop application that guides asset owners and operators through a systematic process of evaluating Operational Technology and Information Technology. The Cyber Security Evaluation Tool (CSET®) provides the following:&nbsp;</p><p>1. A framework for analyzing cybersecurity vulnerabilities associated with an organization’s overall industrial control system (ICS) and information technology (IT) architecture.&nbsp;</p><p>2. A consistent and technically sound methodology to identify, analyze, and communicate to security professionals the various vulnerabilities and consequences that may be exploited by cyber means.&nbsp;</p><p>3. The means for the user to document a process for identifying cybersecurity vulnerabilities.&nbsp;</p><p>4. Suggested methods to evaluate options for improvement based on existing Standards and recommended practices.</p><p><span style="text-align: center;"><blockquote></blockquote><strong>Who should attend:</strong>&nbsp;Teachers, faculty, instructors, employers, and curriculum developers.&nbsp;</span></p><p style="text-align: center;"><span style="text-align: center;">&nbsp;<a href="	https://ncytecenter.wildapricot.org/event-5151208 " target="_blank">REGISTER TO ATTEND</a><hr></span></p><p style="text-align: left;">Presenter<span style="text-align: center;">:</span></p><p><span style="text-align: center;">NCyTE Center's Co-PI, Stephen Miller from Eastern New Mexico University - Ruidoso&nbsp;Branch Community College.</span></p>
X-ALT-DESC;FMTTYPE=text/html:<p style="text-align: center;"></p><p style="text-align: center;">Monthly Member Meeting</p><p align="center"><strong><strong>Cyber Security Evaluation Tool (CSET®)</strong><br></strong></p><p align="center">Friday, August 18, 2023<br>9 am PST</p><p>Join NCyTE at the Monthly Member Meeting to learn how to deploy the Cyber Security Evaluation Tool&nbsp;(CSET®).&nbsp;<span style="text-align: center;">College faculty and industry personnel are encouraged to attend&nbsp;to learn more about the cyber career challenge and CSET®.&nbsp;</span></p><p><span style="text-align: center;"><hr></span></p><p>The Cyber Security Evaluation Tool (CSET®) is a stand-alone desktop application that guides asset owners and operators through a systematic process of evaluating Operational Technology and Information Technology. The Cyber Security Evaluation Tool (CSET®) provides the following:&nbsp;</p><p>1. A framework for analyzing cybersecurity vulnerabilities associated with an organization’s overall industrial control system (ICS) and information technology (IT) architecture.&nbsp;</p><p>2. A consistent and technically sound methodology to identify, analyze, and communicate to security professionals the various vulnerabilities and consequences that may be exploited by cyber means.&nbsp;</p><p>3. The means for the user to document a process for identifying cybersecurity vulnerabilities.&nbsp;</p><p>4. Suggested methods to evaluate options for improvement based on existing Standards and recommended practices.</p><p><span style="text-align: center;"><blockquote></blockquote><strong>Who should attend:</strong>&nbsp;Teachers, faculty, instructors, employers, and curriculum developers.&nbsp;</span></p><p style="text-align: center;"><span style="text-align: center;">&nbsp;<a href="	https://ncytecenter.wildapricot.org/event-5151208 " target="_blank">REGISTER TO ATTEND</a><hr></span></p><p style="text-align: left;">Presenter<span style="text-align: center;">:</span></p><p><span style="text-align: center;">NCyTE Center's Co-PI, Stephen Miller from Eastern New Mexico University - Ruidoso&nbsp;Branch Community College.</span></p>
LOCATION:Virtual\, 
CLASS:PUBLIC
END:VEVENT
END:VCALENDAR
