BEGIN:VCALENDAR
VERSION:2.0
PRODID:NCyTE Center Calendar Creator
METHOD:PUBLISH
BEGIN:VEVENT
DTSTAMP:20230612T094822
DTSTART:20230808T180000
DTEND:20230808T203000
SUMMARY:Alvin Community College Industry Night
DESCRIPTION:<p style="text-align: center;"></p><p data-wacontent="9" data-wacontenttag="P" align="center"><strong data-wacontent="13" data-wacontenttag="STRONG">Alvin Community College Cybersecurity Industry Night</strong></p><p data-wacontent="9" data-wacontenttag="P" align="center"><strong data-wacontent="13" data-wacontenttag="STRONG"><span style="color: rgb(255, 0, 0);">Private Invitation Only</span></strong></p><p data-wacontent="16" data-wacontenttag="P" align="center">Alvin Community College</p><p data-wacontent="21" data-wacontenttag="P" align="center">C227 &amp; Theater</p><p data-wacontent="23" data-wacontenttag="P" align="center">3110 Mustang Rd, Alvin, TX 77511</p><p data-wacontent="28" data-wacontenttag="P" align="center">Tuesday, August 8, 2023</p><p data-wacontent="33" data-wacontenttag="P" align="center">6:00 pm - 8:30 pm CST</p><p data-wacontent="38" data-wacontenttag="P" align="center">&nbsp;</p><p data-wacontent="44" data-wacontenttag="P">You are invited to join local attendees at a dinner and an engaging panel discussion&nbsp;that will discuss awareness, requirements, opportunities, and barriers and provide information for community college students seeking a career in cybersecurity. Alvin Community College Cybersecurity Industry Night will also introduce our program to the community and forge relationships for future graduate employment opportunities.</p><p data-wacontent="52" data-wacontenttag="P">The dinner and networking will take place from 6:00 pm – 7:00 pm in C227.</p><p data-wacontent="57" data-wacontenttag="P">The discussion on the future of cybersecurity, the need for inclusion, and the current job market/environment in the Texas, Gulf Coast Region and what the future of cybersecurity looks like will take place from 7:00 pm -8:30 pm&nbsp; in the theater and will address the following key questions:&nbsp;&nbsp;</p><ul data-wacontent="63" data-wacontenttag="UL">    <li data-wacontent="64" data-wacontenttag="LI">What are the entry level requirements for cybersecurity students?&nbsp;</li>    <li data-wacontent="67" data-wacontenttag="LI">What jobs do you consider cybersecurity or a pathway to a cybersecurity career?&nbsp;</li>    <li data-wacontent="70" data-wacontenttag="LI">What internships and/or apprenticeships are available to our students?&nbsp;</li>    <li data-wacontent="73" data-wacontenttag="LI">How important are Industry Certifications?&nbsp;</li>    <li data-wacontent="76" data-wacontenttag="LI">What is the NICE Framework and Work Roles?&nbsp;</li>    <li data-wacontent="79" data-wacontenttag="LI">Questions for the audience if time permits?&nbsp;</li></ul><ol data-wacontent="82" data-wacontenttag="OL" data-listchain="__List_Chain_11"></ol>    <p data-wacontent="83" data-wacontenttag="P">Invited guests to this special cybersecurity event include area business leaders, local government officials, Alvin Community College, influential industry representatives from the region, and NCyTE Center representatives to network and discuss issues critical to growing the regional cybersecurity workforce.</p>    <p data-wacontent="86" data-wacontenttag="P">This event is sponsored and hosted by Alvin Community College and the NCyTE Center.&nbsp;</p>
X-ALT-DESC;FMTTYPE=text/html:<p style="text-align: center;"></p><p data-wacontent="9" data-wacontenttag="P" align="center"><strong data-wacontent="13" data-wacontenttag="STRONG">Alvin Community College Cybersecurity Industry Night</strong></p><p data-wacontent="9" data-wacontenttag="P" align="center"><strong data-wacontent="13" data-wacontenttag="STRONG"><span style="color: rgb(255, 0, 0);">Private Invitation Only</span></strong></p><p data-wacontent="16" data-wacontenttag="P" align="center">Alvin Community College</p><p data-wacontent="21" data-wacontenttag="P" align="center">C227 &amp; Theater</p><p data-wacontent="23" data-wacontenttag="P" align="center">3110 Mustang Rd, Alvin, TX 77511</p><p data-wacontent="28" data-wacontenttag="P" align="center">Tuesday, August 8, 2023</p><p data-wacontent="33" data-wacontenttag="P" align="center">6:00 pm - 8:30 pm CST</p><p data-wacontent="38" data-wacontenttag="P" align="center">&nbsp;</p><p data-wacontent="44" data-wacontenttag="P">You are invited to join local attendees at a dinner and an engaging panel discussion&nbsp;that will discuss awareness, requirements, opportunities, and barriers and provide information for community college students seeking a career in cybersecurity. Alvin Community College Cybersecurity Industry Night will also introduce our program to the community and forge relationships for future graduate employment opportunities.</p><p data-wacontent="52" data-wacontenttag="P">The dinner and networking will take place from 6:00 pm – 7:00 pm in C227.</p><p data-wacontent="57" data-wacontenttag="P">The discussion on the future of cybersecurity, the need for inclusion, and the current job market/environment in the Texas, Gulf Coast Region and what the future of cybersecurity looks like will take place from 7:00 pm -8:30 pm&nbsp; in the theater and will address the following key questions:&nbsp;&nbsp;</p><ul data-wacontent="63" data-wacontenttag="UL">    <li data-wacontent="64" data-wacontenttag="LI">What are the entry level requirements for cybersecurity students?&nbsp;</li>    <li data-wacontent="67" data-wacontenttag="LI">What jobs do you consider cybersecurity or a pathway to a cybersecurity career?&nbsp;</li>    <li data-wacontent="70" data-wacontenttag="LI">What internships and/or apprenticeships are available to our students?&nbsp;</li>    <li data-wacontent="73" data-wacontenttag="LI">How important are Industry Certifications?&nbsp;</li>    <li data-wacontent="76" data-wacontenttag="LI">What is the NICE Framework and Work Roles?&nbsp;</li>    <li data-wacontent="79" data-wacontenttag="LI">Questions for the audience if time permits?&nbsp;</li></ul><ol data-wacontent="82" data-wacontenttag="OL" data-listchain="__List_Chain_11"></ol>    <p data-wacontent="83" data-wacontenttag="P">Invited guests to this special cybersecurity event include area business leaders, local government officials, Alvin Community College, influential industry representatives from the region, and NCyTE Center representatives to network and discuss issues critical to growing the regional cybersecurity workforce.</p>    <p data-wacontent="86" data-wacontenttag="P">This event is sponsored and hosted by Alvin Community College and the NCyTE Center.&nbsp;</p>
LOCATION:Alvin Community College\, 3110 Mustang Rd Alvin\, Texas 77511
CLASS:PUBLIC
END:VEVENT
END:VCALENDAR
