BEGIN:VCALENDAR
VERSION:2.0
PRODID:NCyTE Center Calendar Creator
METHOD:PUBLISH
BEGIN:VEVENT
DTSTAMP:20230505T150700
DTSTART:20230718T080000
DTEND:20230718T170000
SUMMARY:Cybersecurity Faculty Development: Project Learning Incubator
DESCRIPTION:<b><h2 style="text-align: center;">University of Colorado Springs Colorado</h2></b><p align="center"><b>&amp; Moraine Valley Community College</b></p><p align="center">Summer&nbsp;Cybersecurity Faculty Development</p><p align="center">Project Learning Incubator</p><p style="text-align: center;">7/18/23 - 7/20/23: In person at UCCS</p><p style="text-align: center;">8/3/23 - 8/5/23: In person at MVCC</p><p align="center" style="text-align: left;">You will participate in various workshops and activities that will teach you design principles, troubleshooting, programming, cybersecurity threat analysis, and critical thinking. You’ll also learn how to leverage new and evolving technologies in the classroom, develop new materials including lesson plans, animations, simulations, assessment instruments, and instructional materials, and contribute to the development of a new curriculum. This incubator also provides a team-based approach to curriculum development and encourages networking and collaboration among your fellow peers. You will have the opportunity to share your experiences, exchange ideas, and work together to create innovative solutions for incorporating cybersecurity into your curriculum.</p><p align="center" style="text-align: center;"><a href="https://events.r20.constantcontact.com/register/eventReg?oeidk=a07ejs1nqjc8e04cd09&amp;oseq=&amp;c=&amp;ch=" target="_blank"><strong>REGISTER</strong></a></p>
X-ALT-DESC;FMTTYPE=text/html:<b><h2 style="text-align: center;">University of Colorado Springs Colorado</h2></b><p align="center"><b>&amp; Moraine Valley Community College</b></p><p align="center">Summer&nbsp;Cybersecurity Faculty Development</p><p align="center">Project Learning Incubator</p><p style="text-align: center;">7/18/23 - 7/20/23: In person at UCCS</p><p style="text-align: center;">8/3/23 - 8/5/23: In person at MVCC</p><p align="center" style="text-align: left;">You will participate in various workshops and activities that will teach you design principles, troubleshooting, programming, cybersecurity threat analysis, and critical thinking. You’ll also learn how to leverage new and evolving technologies in the classroom, develop new materials including lesson plans, animations, simulations, assessment instruments, and instructional materials, and contribute to the development of a new curriculum. This incubator also provides a team-based approach to curriculum development and encourages networking and collaboration among your fellow peers. You will have the opportunity to share your experiences, exchange ideas, and work together to create innovative solutions for incorporating cybersecurity into your curriculum.</p><p align="center" style="text-align: center;"><a href="https://events.r20.constantcontact.com/register/eventReg?oeidk=a07ejs1nqjc8e04cd09&amp;oseq=&amp;c=&amp;ch=" target="_blank"><strong>REGISTER</strong></a></p>
LOCATION:Virtual\, 
CLASS:PUBLIC
END:VEVENT
END:VCALENDAR
