BEGIN:VCALENDAR
VERSION:2.0
PRODID:NCyTE Center Calendar Creator
METHOD:PUBLISH
BEGIN:VEVENT
DTSTAMP:20230505T144918
DTSTART:20230710T080000
DTEND:20230710T170000
SUMMARY:Cybersecurity Faculty Development: Autonomous Vehicle Cybersecurity
DESCRIPTION:<b><h2 style="text-align: center;">University of Colorado Springs Colorado</h2></b> <b><h3 style="text-align: center;">&amp; Sinclair College</h3></b><p align="center">Summer&nbsp;Cybersecurity Faculty Development</p><p align="center">Autonomous Vehicle Cybersecurity</p><p align="center">Session 1: 7/10 – 8/6 Asynchronous<br>Session 2: 7/24 – 8/25 Asynchronous</p><p align="center">&nbsp;</p><p align="center" style="text-align: left;">This four-week workshop will prepare instructors to teach the Introduction&nbsp;to Autonomous Vehicle Cybersecurity course by introducing&nbsp;them to the content. In the first three weeks, participants will engage&nbsp;through a remote asynchronous instructor facilitated format as they&nbsp;review the course content and explore its&nbsp; application. The final week will include an opportunity for participants to interact in a remote&nbsp;synchronous session with a subject-matter expert to complete a lab<br>using an open-source autopilot, which will be shipped to the&nbsp;participants for their use during the course and for them to retain&nbsp;upon completion.</p><p align="center" style="text-align: left;">Autonomous vehicles offer advantages in challenging operational&nbsp;settings including in maritime, land, air, and space environments, while&nbsp;providing financial and safety benefits through their use. However,&nbsp;cybersecurity threats have the potential to delay or disrupt operations&nbsp;through either the malicious action of external actors or the&nbsp;unintentional mistakes of trusted parties.</p><p align="center" style="text-align: left;">This course provides an overview of general cybersecurity threats and&nbsp;mitigations, with special focus on those applicable to autonomous&nbsp;vehicles in all domains.</p><p align="center" style="text-align: center;"><a href="https://sinclairwfd.regfox.com/autonomous-vehicle-cybersecurity-course-workshop" target="_blank"><strong>REGISTER</strong></a>&nbsp;</p>
X-ALT-DESC;FMTTYPE=text/html:<b><h2 style="text-align: center;">University of Colorado Springs Colorado</h2></b> <b><h3 style="text-align: center;">&amp; Sinclair College</h3></b><p align="center">Summer&nbsp;Cybersecurity Faculty Development</p><p align="center">Autonomous Vehicle Cybersecurity</p><p align="center">Session 1: 7/10 – 8/6 Asynchronous<br>Session 2: 7/24 – 8/25 Asynchronous</p><p align="center">&nbsp;</p><p align="center" style="text-align: left;">This four-week workshop will prepare instructors to teach the Introduction&nbsp;to Autonomous Vehicle Cybersecurity course by introducing&nbsp;them to the content. In the first three weeks, participants will engage&nbsp;through a remote asynchronous instructor facilitated format as they&nbsp;review the course content and explore its&nbsp; application. The final week will include an opportunity for participants to interact in a remote&nbsp;synchronous session with a subject-matter expert to complete a lab<br>using an open-source autopilot, which will be shipped to the&nbsp;participants for their use during the course and for them to retain&nbsp;upon completion.</p><p align="center" style="text-align: left;">Autonomous vehicles offer advantages in challenging operational&nbsp;settings including in maritime, land, air, and space environments, while&nbsp;providing financial and safety benefits through their use. However,&nbsp;cybersecurity threats have the potential to delay or disrupt operations&nbsp;through either the malicious action of external actors or the&nbsp;unintentional mistakes of trusted parties.</p><p align="center" style="text-align: left;">This course provides an overview of general cybersecurity threats and&nbsp;mitigations, with special focus on those applicable to autonomous&nbsp;vehicles in all domains.</p><p align="center" style="text-align: center;"><a href="https://sinclairwfd.regfox.com/autonomous-vehicle-cybersecurity-course-workshop" target="_blank"><strong>REGISTER</strong></a>&nbsp;</p>
LOCATION:Virtual\, 
CLASS:PUBLIC
END:VEVENT
END:VCALENDAR
