BEGIN:VCALENDAR
VERSION:2.0
PRODID:NCyTE Center Calendar Creator
METHOD:PUBLISH
BEGIN:VEVENT
DTSTAMP:20230505T142848
DTSTART:20230522T080000
DTEND:20230522T170000
SUMMARY:Cybersecurity Faculty Development: Cybersecurity Law
DESCRIPTION:<b><h2 style="text-align: center;">University of Colorado Springs Colorado</h2></b> <b></b><p align="center">Summer&nbsp;Cybersecurity Faculty Development</p><p align="center">Cybersecurity Law</p><p align="center">&nbsp; &nbsp; 5/22 – 6/18 Asynchronous&nbsp; &nbsp; &nbsp; &nbsp; &nbsp; &nbsp; &nbsp; &nbsp; &nbsp; &nbsp; &nbsp; &nbsp; 6/17 In person at UCCS&nbsp;</p><p align="center" style="text-align: left;">Along with physical, technical, and administrative safeguards, cybersecurity&nbsp;law is an increasingly important tool that society relies on to help safeguard&nbsp;digital information. A course on cybersecurity law can be an important&nbsp;supplement to your technical cybersecurity courses.</p><p align="center" style="text-align: left;">What’s the best way to introduce cybersecurity law to students? This four -week&nbsp;workshop will provide a strong foundation for introducing cybersecurity&nbsp;law to students of all backgrounds—technical and nontechnical. We will explore topics such as the nature of the United States legal system, different types of laws that enhance cybersecurity, and specific cybersecurity-related laws such as the Computer Fraud and Abuse Act, data breach laws, and industry-specific laws such as HIPAA. This workshop will also focus on the Fourth Amendment, the Electronic Data Protection Act, and the Fifth Amendment.</p><p align="center" style="text-align: left;">Participants will receive sample syllabi options with textbook suggestions,&nbsp;supplemental reading materials and ideas, sample slide decks, test questions,<br>assignments, and a host of ideas for teaching cybersecurity&nbsp;law. This course will emphasize that cybersecurity law is an important,&nbsp;interesting, and exciting part of today’s cybersecurity landscape and will help&nbsp;you make this topic exciting, relevant, and accessible for all students.&nbsp;Participants will receive 4 CEU's for this workshop.</p><p align="center" style="text-align: center;"><a href="https://docs.google.com/forms/d/e/1FAIpQLSdlt-Q9vv_kGDcT8XKSca_jDlVGwYWZffmSVX1NWv1I65UkDQ/viewform" target="_blank"><strong>REGISTER</strong></a></p>
X-ALT-DESC;FMTTYPE=text/html:<b><h2 style="text-align: center;">University of Colorado Springs Colorado</h2></b> <b></b><p align="center">Summer&nbsp;Cybersecurity Faculty Development</p><p align="center">Cybersecurity Law</p><p align="center">&nbsp; &nbsp; 5/22 – 6/18 Asynchronous&nbsp; &nbsp; &nbsp; &nbsp; &nbsp; &nbsp; &nbsp; &nbsp; &nbsp; &nbsp; &nbsp; &nbsp; 6/17 In person at UCCS&nbsp;</p><p align="center" style="text-align: left;">Along with physical, technical, and administrative safeguards, cybersecurity&nbsp;law is an increasingly important tool that society relies on to help safeguard&nbsp;digital information. A course on cybersecurity law can be an important&nbsp;supplement to your technical cybersecurity courses.</p><p align="center" style="text-align: left;">What’s the best way to introduce cybersecurity law to students? This four -week&nbsp;workshop will provide a strong foundation for introducing cybersecurity&nbsp;law to students of all backgrounds—technical and nontechnical. We will explore topics such as the nature of the United States legal system, different types of laws that enhance cybersecurity, and specific cybersecurity-related laws such as the Computer Fraud and Abuse Act, data breach laws, and industry-specific laws such as HIPAA. This workshop will also focus on the Fourth Amendment, the Electronic Data Protection Act, and the Fifth Amendment.</p><p align="center" style="text-align: left;">Participants will receive sample syllabi options with textbook suggestions,&nbsp;supplemental reading materials and ideas, sample slide decks, test questions,<br>assignments, and a host of ideas for teaching cybersecurity&nbsp;law. This course will emphasize that cybersecurity law is an important,&nbsp;interesting, and exciting part of today’s cybersecurity landscape and will help&nbsp;you make this topic exciting, relevant, and accessible for all students.&nbsp;Participants will receive 4 CEU's for this workshop.</p><p align="center" style="text-align: center;"><a href="https://docs.google.com/forms/d/e/1FAIpQLSdlt-Q9vv_kGDcT8XKSca_jDlVGwYWZffmSVX1NWv1I65UkDQ/viewform" target="_blank"><strong>REGISTER</strong></a></p>
LOCATION:Virtual\, 
CLASS:PUBLIC
END:VEVENT
END:VCALENDAR
