BEGIN:VCALENDAR
VERSION:2.0
PRODID:NCyTE Center Calendar Creator
METHOD:PUBLISH
BEGIN:VEVENT
DTSTAMP:20230505T141642
DTSTART:20230626T080000
DTEND:20230626T170000
SUMMARY:Cybersecurity Faculty Development: Data Privacy
DESCRIPTION:<h2 style="text-align: center;">University of Colorado Springs Colorado</h2><h3 style="text-align: center;">&amp; University of Alabama</h3><p style="text-align: center;">Summer&nbsp;Cybersecurity Faculty Development</p><p style="text-align: center;">Data Privacy</p><p style="text-align: center;">&nbsp; &nbsp; &nbsp; &nbsp; &nbsp;Session 1: 6/26 – 7/15 Asynchronous&nbsp; &nbsp; &nbsp; &nbsp;7/17 – 7/21 Synchronous and in person at UAH</p><p style="text-align: center; margin-left: 40px;">Session 2: 7/24 / 8/11 Asynchronous&nbsp; &nbsp; &nbsp; &nbsp;8/14 – 8/21 Synchronous and in person at UCCS</p><p style="text-align: center; margin-left: 40px;">&nbsp;</p><p style="text-align: left; margin-left: 40px;">This course provides an overview and knowledge of information security and privacy, researching and examining a variety of topics such as laws, management and privacy technology.&nbsp;Participants will examine and research the multi-disciplinary field of data privacy and will learn and understand what privacy is and how privacy laws vary around the world.</p><p style="text-align: left; margin-left: 40px;">Participants will also research the difference between privacy principles and privacy harms and the impact of decisions on individuals. Privacy data breaches and fines will be utilized as case studies for labs and assignments. Participants will conclude the class with a data privacy research project to apply the concepts and information learned throughout the class.</p><p style="text-align: center; margin-left: 40px;">&nbsp;<a href="https://docs.google.com/forms/d/e/1FAIpQLSeyBY29-18IfrpGve-WNU9PIq_kjRTlsHOjY11NgXdYPbCZag/viewform" target="_blank" style="text-align: center;"><strong>REGISTER</strong></a></p>
X-ALT-DESC;FMTTYPE=text/html:<h2 style="text-align: center;">University of Colorado Springs Colorado</h2><h3 style="text-align: center;">&amp; University of Alabama</h3><p style="text-align: center;">Summer&nbsp;Cybersecurity Faculty Development</p><p style="text-align: center;">Data Privacy</p><p style="text-align: center;">&nbsp; &nbsp; &nbsp; &nbsp; &nbsp;Session 1: 6/26 – 7/15 Asynchronous&nbsp; &nbsp; &nbsp; &nbsp;7/17 – 7/21 Synchronous and in person at UAH</p><p style="text-align: center; margin-left: 40px;">Session 2: 7/24 / 8/11 Asynchronous&nbsp; &nbsp; &nbsp; &nbsp;8/14 – 8/21 Synchronous and in person at UCCS</p><p style="text-align: center; margin-left: 40px;">&nbsp;</p><p style="text-align: left; margin-left: 40px;">This course provides an overview and knowledge of information security and privacy, researching and examining a variety of topics such as laws, management and privacy technology.&nbsp;Participants will examine and research the multi-disciplinary field of data privacy and will learn and understand what privacy is and how privacy laws vary around the world.</p><p style="text-align: left; margin-left: 40px;">Participants will also research the difference between privacy principles and privacy harms and the impact of decisions on individuals. Privacy data breaches and fines will be utilized as case studies for labs and assignments. Participants will conclude the class with a data privacy research project to apply the concepts and information learned throughout the class.</p><p style="text-align: center; margin-left: 40px;">&nbsp;<a href="https://docs.google.com/forms/d/e/1FAIpQLSeyBY29-18IfrpGve-WNU9PIq_kjRTlsHOjY11NgXdYPbCZag/viewform" target="_blank" style="text-align: center;"><strong>REGISTER</strong></a></p>
LOCATION:Virtual\, 
CLASS:PUBLIC
END:VEVENT
END:VCALENDAR
