BEGIN:VCALENDAR
VERSION:2.0
PRODID:NCyTE Center Calendar Creator
METHOD:PUBLISH
BEGIN:VEVENT
DTSTAMP:20230906T094809
DTSTART:20230922T090000
DTEND:20230922T130000
SUMMARY:National Cybersecurity Virtual Career Fair
DESCRIPTION:<p style="text-align: center;"></p><p style="text-align: center;">National Cybersecurity Virtual Career Fair</p><p style="text-align: center;">September 22, 2023</p><p style="text-align: center;">&nbsp;</p><p data-wacontent="2" data-wacontenttag="P"><strong data-wacontent="5" data-wacontenttag="STRONG">JOIN US!</strong></p><p data-wacontent="6" data-wacontenttag="P">Please join us on September 22, 2023 for the annual&nbsp;<a data-wacontent="8" data-wacontenttag="A" href="https://caecommunity.6connex.com/event/virtual/login" target="_blank">National Cybersecurity Virtual Career Fair</a>, hosted by the&nbsp;National Cybersecurity Training and Education Center&nbsp;(<a data-wacontent="12" data-wacontenttag="A" href="https://www.ncyte.net/" target="_blank">NCyTE</a>) and the&nbsp;<a data-wacontent="14" data-wacontenttag="A" href="https://www.caecommunity.org/" target="_blank">CAE in Cybersecurity Community</a>.</p><p data-wacontent="16" data-wacontenttag="P">Employers&nbsp;<a data-wacontent="18" data-wacontenttag="A" href="https://docs.google.com/forms/d/e/1FAIpQLSfi_OQM5exh9D0zeLYQ1S0SgAqARvdZBxAhmjmDcGwmB7UF2Q/viewform" target="_blank">Register now</a>&nbsp;to participate in the career fair with a complimentary booth. This is a great opportunity to meet talented cybersecurity students and recent graduates from our network of more than 420 colleges and universities that hold a Center of Academic Excellence (CAE) in cybersecurity designation.</p><p data-wacontent="20" data-wacontenttag="P">Each year, the number of undergraduate and graduate students and alumni participating in this event continues to grow. Students from CAE institutions come from a variety of disciplines and are invited to participate for&nbsp;<strong data-wacontent="24" data-wacontenttag="STRONG">FREE</strong>. </p><p data-wacontent="28" data-wacontenttag="P">The National Cybersecurity Virtual Career Fair only occurs once a year. Don't miss your chance to network with talented cybersecurity professionals who are actively seeking employment and industry actively seeking trained professionals to join their teams.</p><p data-wacontent="28" data-wacontenttag="P"><hr></p><p>As the CAE in Cybersecurity program continues to designate new CAEs, the number of students participating in the VCF grows each year.&nbsp;Last year, over 1100&nbsp;students and&nbsp;alumni participated in the virtual career fair. For more information, visit&nbsp;<a data-wacontent="17" data-wacontenttag="A" href="https://www.caecommunity.org/events/save-date-2022-national-cybersecurity-virtual-career-fair" target="_blank">CAECommunity.org</a></p>
X-ALT-DESC;FMTTYPE=text/html:<p style="text-align: center;"></p><p style="text-align: center;">National Cybersecurity Virtual Career Fair</p><p style="text-align: center;">September 22, 2023</p><p style="text-align: center;">&nbsp;</p><p data-wacontent="2" data-wacontenttag="P"><strong data-wacontent="5" data-wacontenttag="STRONG">JOIN US!</strong></p><p data-wacontent="6" data-wacontenttag="P">Please join us on September 22, 2023 for the annual&nbsp;<a data-wacontent="8" data-wacontenttag="A" href="https://caecommunity.6connex.com/event/virtual/login" target="_blank">National Cybersecurity Virtual Career Fair</a>, hosted by the&nbsp;National Cybersecurity Training and Education Center&nbsp;(<a data-wacontent="12" data-wacontenttag="A" href="https://www.ncyte.net/" target="_blank">NCyTE</a>) and the&nbsp;<a data-wacontent="14" data-wacontenttag="A" href="https://www.caecommunity.org/" target="_blank">CAE in Cybersecurity Community</a>.</p><p data-wacontent="16" data-wacontenttag="P">Employers&nbsp;<a data-wacontent="18" data-wacontenttag="A" href="https://docs.google.com/forms/d/e/1FAIpQLSfi_OQM5exh9D0zeLYQ1S0SgAqARvdZBxAhmjmDcGwmB7UF2Q/viewform" target="_blank">Register now</a>&nbsp;to participate in the career fair with a complimentary booth. This is a great opportunity to meet talented cybersecurity students and recent graduates from our network of more than 420 colleges and universities that hold a Center of Academic Excellence (CAE) in cybersecurity designation.</p><p data-wacontent="20" data-wacontenttag="P">Each year, the number of undergraduate and graduate students and alumni participating in this event continues to grow. Students from CAE institutions come from a variety of disciplines and are invited to participate for&nbsp;<strong data-wacontent="24" data-wacontenttag="STRONG">FREE</strong>. </p><p data-wacontent="28" data-wacontenttag="P">The National Cybersecurity Virtual Career Fair only occurs once a year. Don't miss your chance to network with talented cybersecurity professionals who are actively seeking employment and industry actively seeking trained professionals to join their teams.</p><p data-wacontent="28" data-wacontenttag="P"><hr></p><p>As the CAE in Cybersecurity program continues to designate new CAEs, the number of students participating in the VCF grows each year.&nbsp;Last year, over 1100&nbsp;students and&nbsp;alumni participated in the virtual career fair. For more information, visit&nbsp;<a data-wacontent="17" data-wacontenttag="A" href="https://www.caecommunity.org/events/save-date-2022-national-cybersecurity-virtual-career-fair" target="_blank">CAECommunity.org</a></p>
LOCATION:
CLASS:PUBLIC
END:VEVENT
END:VCALENDAR
