BEGIN:VCALENDAR
VERSION:2.0
PRODID:NCyTE Center Calendar Creator
METHOD:PUBLISH
BEGIN:VEVENT
DTSTAMP:20230502T143219
DTSTART:20230918T080000
DTEND:20230921T170000
SUMMARY:National Cybersecurity Education Colloquium
DESCRIPTION:<p>The National Centers of Academic Excellence in Cybersecurity Program Management Office (NCAE-C PMO) and the Maryland Innovation and Security Institute (MISI) will co-sponsor the National Cybersecurity Education Colloquium (NCEC) at Moraine Valley Community College (near Midway Airport), September 18-22, 2023. The event will combine several previously autonomous events and opportunities for schools, government representatives, industry, and other innovators to collaborate and learn together.&nbsp; The PMO will engage partners at FBI, CISA, DoD, NSF, NICE, CYBERCOM, and Space Force. </p><p>&nbsp;Event Highlights</p><p>&nbsp;<strong>Monday, September 18</strong></p><ul>    <li aria-level="1">Hack the Building 2.0 Hospital Edition.&nbsp; MISI will conduct a preliminary virtual cyber exercise March 20-24 and March 27-31.&nbsp; From this exercise, the PMO will sponsor 12 NCAE-C teams to participate live in the competition, Monday through Thursday, September 18-21. Visit <a href="https://www.hacktheuniverse.tech/hack-the-building-2-cae-student-pass/">Hack the Universe</a> to register.&nbsp;</li>    <li aria-level="1">The NCAE-C Initiatives Workshop.&nbsp; All coalitions working on grants issued in FY20 through FY23 will meet to provide updates and collaborate.&nbsp; Grants will either provide final results, an update on progress, or plans and objectives depending on the status of their grant.&nbsp; All initiative coalition partners are welcome to participate.</li>    <li aria-level="1">Conference Track. MISI and the NCAE-C PMO will host a wide variety of speakers focused on healthcare cybersecurity issues, national cybersecurity education challenges and programs, and senior leaders from across government and industry through Thursday, September 21.</li></ul><p>&nbsp;<strong>Tuesday, September 19</strong></p><ul>    <li aria-level="1">The annual PMO Meeting will welcome all NCAE-C POCs and institution representatives.&nbsp; This is the annual business meeting with discussion on upcoming updates to the program and will include Community of Practice (CoP) meetings for CAE-CD, CAE-CO, and CAE-R CoPs.</li></ul><p><strong>&nbsp;Wednesday, September 20</strong></p><ul>    <li aria-level="1">Conference Track will expand to two tracks&nbsp;</li></ul><p><strong>Thursday, September 21</strong></p><ul>    <li aria-level="1">The Executive Leadership Forum (ELF) will welcome Presidents and Executives from designated NCAE-C institutions.&nbsp; This will be a by-invitation event. <u><em>NCAE-C POCs should visit the program management </em></u><u><em><strong><a href="https://nsa-ncae.com/login">tool</a></strong></em></u><u><em><strong> and make sure all contact information for the President and the POC is up to date</strong></em></u>. Invitations will be issued in March once primary speakers and the program have been determined.</li>    <li aria-level="1">The PMO will host Special Interest Groups focused on specific topics hosted by guest leaders in government, with emphasis on research and mission elements.&nbsp; These will be small group sessions requiring pre-registration. </li></ul><p><strong>&nbsp;Friday, September 22</strong></p><ul>    <li aria-level="1">CAE-R Research Symposium agenda coming soon&nbsp;</li>    <li aria-level="1">The PMO will provide opportunities for POCs to meet individually with PMO and &nbsp;government personnel.&nbsp;</li>    <li aria-level="1">The seventh annual National Cybersecurity Virtual Career Fair, hosted by the CAE in Cybersecurity Community and the National Cybersecurity Training and Education Center (NCyTE). Please visit <a href="https://www.caecommunity.org/events/save-date-national-cybersecurity-virtual-career-fair-2023">caecommunity.org</a> for updates.</li></ul><p>&nbsp;MISI will offer a variety of classes for students, faculty, and other participants Monday through Wednesday, September 18-20.&nbsp; Topics will be announced in March and will require pre-registration.</p>
X-ALT-DESC;FMTTYPE=text/html:<p>The National Centers of Academic Excellence in Cybersecurity Program Management Office (NCAE-C PMO) and the Maryland Innovation and Security Institute (MISI) will co-sponsor the National Cybersecurity Education Colloquium (NCEC) at Moraine Valley Community College (near Midway Airport), September 18-22, 2023. The event will combine several previously autonomous events and opportunities for schools, government representatives, industry, and other innovators to collaborate and learn together.&nbsp; The PMO will engage partners at FBI, CISA, DoD, NSF, NICE, CYBERCOM, and Space Force. </p><p>&nbsp;Event Highlights</p><p>&nbsp;<strong>Monday, September 18</strong></p><ul>    <li aria-level="1">Hack the Building 2.0 Hospital Edition.&nbsp; MISI will conduct a preliminary virtual cyber exercise March 20-24 and March 27-31.&nbsp; From this exercise, the PMO will sponsor 12 NCAE-C teams to participate live in the competition, Monday through Thursday, September 18-21. Visit <a href="https://www.hacktheuniverse.tech/hack-the-building-2-cae-student-pass/">Hack the Universe</a> to register.&nbsp;</li>    <li aria-level="1">The NCAE-C Initiatives Workshop.&nbsp; All coalitions working on grants issued in FY20 through FY23 will meet to provide updates and collaborate.&nbsp; Grants will either provide final results, an update on progress, or plans and objectives depending on the status of their grant.&nbsp; All initiative coalition partners are welcome to participate.</li>    <li aria-level="1">Conference Track. MISI and the NCAE-C PMO will host a wide variety of speakers focused on healthcare cybersecurity issues, national cybersecurity education challenges and programs, and senior leaders from across government and industry through Thursday, September 21.</li></ul><p>&nbsp;<strong>Tuesday, September 19</strong></p><ul>    <li aria-level="1">The annual PMO Meeting will welcome all NCAE-C POCs and institution representatives.&nbsp; This is the annual business meeting with discussion on upcoming updates to the program and will include Community of Practice (CoP) meetings for CAE-CD, CAE-CO, and CAE-R CoPs.</li></ul><p><strong>&nbsp;Wednesday, September 20</strong></p><ul>    <li aria-level="1">Conference Track will expand to two tracks&nbsp;</li></ul><p><strong>Thursday, September 21</strong></p><ul>    <li aria-level="1">The Executive Leadership Forum (ELF) will welcome Presidents and Executives from designated NCAE-C institutions.&nbsp; This will be a by-invitation event. <u><em>NCAE-C POCs should visit the program management </em></u><u><em><strong><a href="https://nsa-ncae.com/login">tool</a></strong></em></u><u><em><strong> and make sure all contact information for the President and the POC is up to date</strong></em></u>. Invitations will be issued in March once primary speakers and the program have been determined.</li>    <li aria-level="1">The PMO will host Special Interest Groups focused on specific topics hosted by guest leaders in government, with emphasis on research and mission elements.&nbsp; These will be small group sessions requiring pre-registration. </li></ul><p><strong>&nbsp;Friday, September 22</strong></p><ul>    <li aria-level="1">CAE-R Research Symposium agenda coming soon&nbsp;</li>    <li aria-level="1">The PMO will provide opportunities for POCs to meet individually with PMO and &nbsp;government personnel.&nbsp;</li>    <li aria-level="1">The seventh annual National Cybersecurity Virtual Career Fair, hosted by the CAE in Cybersecurity Community and the National Cybersecurity Training and Education Center (NCyTE). Please visit <a href="https://www.caecommunity.org/events/save-date-national-cybersecurity-virtual-career-fair-2023">caecommunity.org</a> for updates.</li></ul><p>&nbsp;MISI will offer a variety of classes for students, faculty, and other participants Monday through Wednesday, September 18-20.&nbsp; Topics will be announced in March and will require pre-registration.</p>
LOCATION:Moraine Valley Community College\, 9000 W. College Pkwy. Palos Hills\, Illinois 60465
CLASS:PUBLIC
END:VEVENT
END:VCALENDAR
