BEGIN:VCALENDAR
VERSION:2.0
PRODID:NCyTE Center Calendar Creator
METHOD:PUBLISH
BEGIN:VEVENT
DTSTAMP:20230502T142524
DTSTART:20230906T080000
DTEND:20230907T170000
SUMMARY:Convene: Washington, DC
DESCRIPTION:<h5>The National Cybersecurity Alliance is&nbsp;gathering training and awareness professionals&nbsp;together to connect, share and&nbsp;<em>Convene</em>.</h5><ul>    <li>    <p>Connect with the training and awareness community.&nbsp;Convene was created for this close-knit group, which has few opportunities to connect in person at an event designed just for you.</p>    </li>    <li>    <p>Learn best practices.&nbsp;Thought leaders and industry executives will share their recent successes, failures and insights from recent campaigns and programs.</p>    </li>    <li>    <p>Build camaraderie.&nbsp;Immersive gatherings with like-minded professionals breed innovation, sharing and human connection.</p>    </li></ul><p>&nbsp;</p><p style="text-align: center;"><a href="https://staysafeonline.org/programs/events/convene-washington-dc/" target="_blank">REGISTER</a></p>
X-ALT-DESC;FMTTYPE=text/html:<h5>The National Cybersecurity Alliance is&nbsp;gathering training and awareness professionals&nbsp;together to connect, share and&nbsp;<em>Convene</em>.</h5><ul>    <li>    <p>Connect with the training and awareness community.&nbsp;Convene was created for this close-knit group, which has few opportunities to connect in person at an event designed just for you.</p>    </li>    <li>    <p>Learn best practices.&nbsp;Thought leaders and industry executives will share their recent successes, failures and insights from recent campaigns and programs.</p>    </li>    <li>    <p>Build camaraderie.&nbsp;Immersive gatherings with like-minded professionals breed innovation, sharing and human connection.</p>    </li></ul><p>&nbsp;</p><p style="text-align: center;"><a href="https://staysafeonline.org/programs/events/convene-washington-dc/" target="_blank">REGISTER</a></p>
LOCATION:The Watergate Hotel\, 2650 Virginia Ave NW Washington\, District of Columbia 20037
CLASS:PUBLIC
END:VEVENT
END:VCALENDAR
