BEGIN:VCALENDAR
VERSION:2.0
PRODID:NCyTE Center Calendar Creator
METHOD:PUBLISH
BEGIN:VEVENT
DTSTAMP:20230502T140525
DTSTART:20230724T080000
DTEND:20230727T170000
SUMMARY:High Impact Technology Exchange Conference 2023
DESCRIPTION:<section elementor-top-section="" elementor-element="" elementor-element-000cd21="" elementor-section-boxed="" elementor-section-height-default="" elementor-section-height-default"="" data-id="000cd21" data-element_type="section" data-settings="{&quot;_ha_eqh_enable&quot;:false}"><div elementor-column-gap-default"=""><div elementor-col-100="" elementor-top-column="" elementor-element="" elementor-element-dd9d5b6"="" data-id="dd9d5b6" data-element_type="column"><div elementor-element-populated"=""><div elementor-element-6b80c56="" elementor-widget="" elementor-widget-heading"="" data-id="6b80c56" data-element_type="widget" data-widget_type="heading.default"><div><h1 elementor-size-default"="" style="text-align: center;">HI-TEC:&nbsp;<i>A National Conference on Advanced Technological Education</i></h1></div></div></div></div></div></section><section elementor-top-section="" elementor-element="" elementor-element-dd1f7eb="" elementor-section-boxed="" elementor-section-height-default="" elementor-section-height-default"="" data-id="dd1f7eb" data-element_type="section" data-settings="{&quot;_ha_eqh_enable&quot;:false}"><div elementor-column-gap-default"=""><div elementor-col-100="" elementor-top-column="" elementor-element="" elementor-element-33987e1"="" data-id="33987e1" data-element_type="column"><div elementor-element-populated"=""><div elementor-element-7f790b2="" elementor-widget__width-initial="" elementor-widget="" elementor-widget-text-editor"="" data-id="7f790b2" data-element_type="widget" data-widget_type="text-editor.default"><p>Supported by the National Science Foundation’s Advanced Technological Education (NSF ATE) program, HI-TEC is a national conference on advanced technological education where secondary and postsecondary educators, counselors, industry professionals, trade organizations, and technicians can update their knowledge and skills. Charged with&nbsp;<i>preparing America’s skilled technical workforce,</i>&nbsp;the event focuses on the preparation needed by the existing and future workforce for companies in the high-tech sectors that drive our nation’s economy.</p><p><div elementor-element-7d28cd9="" elementor-widget="" elementor-widget-heading"="" data-id="7d28cd9" data-element_type="widget" data-widget_type="heading.default"><div><h3 elementor-size-default"="">What We Do</h3></div></div><div elementor-element-33a1a7e="" elementor-widget="" elementor-widget-text-editor"="" data-id="33a1a7e" data-element_type="widget" data-widget_type="text-editor.default"><div></div></div></p><p>HI-TEC explores the convergence of scientific disciplines and technologies including:</p><p><div elementor-element-33a1a7e="" elementor-widget="" elementor-widget-text-editor"="" data-id="33a1a7e" data-element_type="widget" data-widget_type="text-editor.default"><ul>    <li>Advanced Manufacturing Technologies</li>    <li>Bio and Agricultural Technologies</li>    <li>Energy and Environmental Technologies</li>    <li>Engineering Technologies</li>    <li>Information, Communications, and Geospatial Technologies</li>    <li>Learning, Evaluation, and Research</li>    <li>Micro and Nanotechnologies</li>    <li>Security Technologies</li>    <li>Workforce Diversity and Inclusion</li>    <li>Emerging Technologies</li></ul><p><div elementor-element-3eeda76="" elementor-widget="" elementor-widget-heading"="" data-id="3eeda76" data-element_type="widget" data-widget_type="heading.default"><div><h3 elementor-size-default"="">Who Should Attend</h3></div></div><div elementor-element-fdbe5d2="" elementor-widget="" elementor-widget-text-editor"="" data-id="fdbe5d2" data-element_type="widget" data-widget_type="text-editor.default"><div><ul>    <li>Community College and University Educators</li>    <li>High School Educators</li>    <li>Workforce Development Advocates</li>    <li>Trade Organizations</li>    <li>Industry Professionals</li>    <li>Technicians</li></ul></div></div></p><p style="text-align: center;">&nbsp;<a href="https://www.highimpact-tec.org/" target="_blank" style="text-align: center;">REGISTER&nbsp;</a></p></div></p></div></div></div></div></section>
X-ALT-DESC;FMTTYPE=text/html:<section elementor-top-section="" elementor-element="" elementor-element-000cd21="" elementor-section-boxed="" elementor-section-height-default="" elementor-section-height-default"="" data-id="000cd21" data-element_type="section" data-settings="{&quot;_ha_eqh_enable&quot;:false}"><div elementor-column-gap-default"=""><div elementor-col-100="" elementor-top-column="" elementor-element="" elementor-element-dd9d5b6"="" data-id="dd9d5b6" data-element_type="column"><div elementor-element-populated"=""><div elementor-element-6b80c56="" elementor-widget="" elementor-widget-heading"="" data-id="6b80c56" data-element_type="widget" data-widget_type="heading.default"><div><h1 elementor-size-default"="" style="text-align: center;">HI-TEC:&nbsp;<i>A National Conference on Advanced Technological Education</i></h1></div></div></div></div></div></section><section elementor-top-section="" elementor-element="" elementor-element-dd1f7eb="" elementor-section-boxed="" elementor-section-height-default="" elementor-section-height-default"="" data-id="dd1f7eb" data-element_type="section" data-settings="{&quot;_ha_eqh_enable&quot;:false}"><div elementor-column-gap-default"=""><div elementor-col-100="" elementor-top-column="" elementor-element="" elementor-element-33987e1"="" data-id="33987e1" data-element_type="column"><div elementor-element-populated"=""><div elementor-element-7f790b2="" elementor-widget__width-initial="" elementor-widget="" elementor-widget-text-editor"="" data-id="7f790b2" data-element_type="widget" data-widget_type="text-editor.default"><p>Supported by the National Science Foundation’s Advanced Technological Education (NSF ATE) program, HI-TEC is a national conference on advanced technological education where secondary and postsecondary educators, counselors, industry professionals, trade organizations, and technicians can update their knowledge and skills. Charged with&nbsp;<i>preparing America’s skilled technical workforce,</i>&nbsp;the event focuses on the preparation needed by the existing and future workforce for companies in the high-tech sectors that drive our nation’s economy.</p><p><div elementor-element-7d28cd9="" elementor-widget="" elementor-widget-heading"="" data-id="7d28cd9" data-element_type="widget" data-widget_type="heading.default"><div><h3 elementor-size-default"="">What We Do</h3></div></div><div elementor-element-33a1a7e="" elementor-widget="" elementor-widget-text-editor"="" data-id="33a1a7e" data-element_type="widget" data-widget_type="text-editor.default"><div></div></div></p><p>HI-TEC explores the convergence of scientific disciplines and technologies including:</p><p><div elementor-element-33a1a7e="" elementor-widget="" elementor-widget-text-editor"="" data-id="33a1a7e" data-element_type="widget" data-widget_type="text-editor.default"><ul>    <li>Advanced Manufacturing Technologies</li>    <li>Bio and Agricultural Technologies</li>    <li>Energy and Environmental Technologies</li>    <li>Engineering Technologies</li>    <li>Information, Communications, and Geospatial Technologies</li>    <li>Learning, Evaluation, and Research</li>    <li>Micro and Nanotechnologies</li>    <li>Security Technologies</li>    <li>Workforce Diversity and Inclusion</li>    <li>Emerging Technologies</li></ul><p><div elementor-element-3eeda76="" elementor-widget="" elementor-widget-heading"="" data-id="3eeda76" data-element_type="widget" data-widget_type="heading.default"><div><h3 elementor-size-default"="">Who Should Attend</h3></div></div><div elementor-element-fdbe5d2="" elementor-widget="" elementor-widget-text-editor"="" data-id="fdbe5d2" data-element_type="widget" data-widget_type="text-editor.default"><div><ul>    <li>Community College and University Educators</li>    <li>High School Educators</li>    <li>Workforce Development Advocates</li>    <li>Trade Organizations</li>    <li>Industry Professionals</li>    <li>Technicians</li></ul></div></div></p><p style="text-align: center;">&nbsp;<a href="https://www.highimpact-tec.org/" target="_blank" style="text-align: center;">REGISTER&nbsp;</a></p></div></p></div></div></div></div></section>
LOCATION:
CLASS:PUBLIC
END:VEVENT
END:VCALENDAR
