BEGIN:VCALENDAR
VERSION:2.0
PRODID:NCyTE Center Calendar Creator
METHOD:PUBLISH
BEGIN:VEVENT
DTSTAMP:20230502T135811
DTSTART:20230721T090000
DTEND:20230721T100000
SUMMARY:Monthly Member Meeting
DESCRIPTION:<p style="text-align: center;"></p><p align="center"><strong>Cybersecurity Curriculum Resources<br></strong>July 21, 2023<br>9am PST</p><p><strong>Looking for free cybersecurity curriculum to upgrade your course?</strong></p><p>Join us to learn more about the resources available on&nbsp;<a href="https://clark.center/home" title="CLARK.CENTER webpage link" target="_blank">CLARK.CENTER</a>. There are sixteen collections and over 1,170 learning objects on the platform. The presenters will be giving a tour and demo of the platform.&nbsp;&nbsp;</p><p><em>CLARK is a platform for&nbsp;BUILDING&nbsp;and sharing free cybersecurity curriculum. It includes three components – the model for building curriculum, the digital library system, and the curriculum collections. It provides cybersecurity faculty the building blocks to train the&nbsp;NEXT WAVE&nbsp;of researchers and better prepare the cybersecurity workforce.</em></p><p><strong>Who should attend:<br></strong>Faculty and HS Teachers</p><p><hr></p><p align="left"><strong>Presenters:&nbsp;</strong></p><p align="left"><strong>Sid Kaza&nbsp;<a href="mailto:skaza@towson.edu" target="_blank">skaza@towson.edu<br></a></strong></p><p align="left"><strong>Blair Taylor&nbsp;<a href="mailto:btaylor@towson.edu" target="_blank">btaylor@towson.edu</a><br></strong></p><p align="left" style="text-align: center;"><hr><a href="https://ncytecenter.wildapricot.org/event-5151201 " target="_blank">REGISTER&nbsp;</a></p>
X-ALT-DESC;FMTTYPE=text/html:<p style="text-align: center;"></p><p align="center"><strong>Cybersecurity Curriculum Resources<br></strong>July 21, 2023<br>9am PST</p><p><strong>Looking for free cybersecurity curriculum to upgrade your course?</strong></p><p>Join us to learn more about the resources available on&nbsp;<a href="https://clark.center/home" title="CLARK.CENTER webpage link" target="_blank">CLARK.CENTER</a>. There are sixteen collections and over 1,170 learning objects on the platform. The presenters will be giving a tour and demo of the platform.&nbsp;&nbsp;</p><p><em>CLARK is a platform for&nbsp;BUILDING&nbsp;and sharing free cybersecurity curriculum. It includes three components – the model for building curriculum, the digital library system, and the curriculum collections. It provides cybersecurity faculty the building blocks to train the&nbsp;NEXT WAVE&nbsp;of researchers and better prepare the cybersecurity workforce.</em></p><p><strong>Who should attend:<br></strong>Faculty and HS Teachers</p><p><hr></p><p align="left"><strong>Presenters:&nbsp;</strong></p><p align="left"><strong>Sid Kaza&nbsp;<a href="mailto:skaza@towson.edu" target="_blank">skaza@towson.edu<br></a></strong></p><p align="left"><strong>Blair Taylor&nbsp;<a href="mailto:btaylor@towson.edu" target="_blank">btaylor@towson.edu</a><br></strong></p><p align="left" style="text-align: center;"><hr><a href="https://ncytecenter.wildapricot.org/event-5151201 " target="_blank">REGISTER&nbsp;</a></p>
LOCATION:Virtual\, 
CLASS:PUBLIC
END:VEVENT
END:VCALENDAR
