BEGIN:VCALENDAR
VERSION:2.0
PRODID:NCyTE Center Calendar Creator
METHOD:PUBLISH
BEGIN:VEVENT
DTSTAMP:20240819T103726
DTSTART:20230620T080000
DTEND:20230621T150000
SUMMARY:Cybersecurity Maturity Model Certification 2.0 workshop
DESCRIPTION:<p style="text-align: center;"></p><p align="center"><strong>CMMC Workshop<br></strong>August 22 - 23, 2023</p><p align="center">8:00 am - 3:00 pm PST, virtual</p><p align="center"><strong>Please Note: Each workshop is limited to 25 attendees<br><br></strong></p><p>Register now for a free, two-day CMMC (Cybersecurity Maturity Model Certification) 2.0 workshop! Spaces are limited.</p><p>NCyTE is offering a free workshop that will cover the CMMC 2.0 and the new Department of Defense (DoD) requirements which include: moving from a five-level compliance model to a three-level model, shifting most auditing requirements to the DoD, and revising the program to mirror NIST 800-171 more closely.</p><p>Who should attend?</p><ul>    <li>Cybersecurity faculty</li>    <li>Small business IT or cybersecurity personnel&nbsp;</li></ul><p><hr></p><p>The workshop will be facilitated by&nbsp;<a href="https://www.ncyte.net/about-us/about/leadership-institutions/dr-john-sands" target="_blank"><strong>Dr. John Sands</strong></a>&nbsp;who has over 30 years of&nbsp;experience in education and workforce research in data communications, manufacturing technologies, information technology, information security management and cybersecurity. He has led previous CMMC workshops and is well versed in CMMC 2.0.</p><p>All attendees will receive an Instructor Guidebook, Student Guidebook, training resources, and a Canvas course package. The workshop is limited to 25 attendees and spots are filling up quickly.</p><p style="text-align: center;"><div><a href="	https://ncytecenter.wildapricot.org/event-5246141 " target="_blank">REGISTER&nbsp;</a></div></p><p align="left">&nbsp;</p>
X-ALT-DESC;FMTTYPE=text/html:<p style="text-align: center;"></p><p align="center"><strong>CMMC Workshop<br></strong>August 22 - 23, 2023</p><p align="center">8:00 am - 3:00 pm PST, virtual</p><p align="center"><strong>Please Note: Each workshop is limited to 25 attendees<br><br></strong></p><p>Register now for a free, two-day CMMC (Cybersecurity Maturity Model Certification) 2.0 workshop! Spaces are limited.</p><p>NCyTE is offering a free workshop that will cover the CMMC 2.0 and the new Department of Defense (DoD) requirements which include: moving from a five-level compliance model to a three-level model, shifting most auditing requirements to the DoD, and revising the program to mirror NIST 800-171 more closely.</p><p>Who should attend?</p><ul>    <li>Cybersecurity faculty</li>    <li>Small business IT or cybersecurity personnel&nbsp;</li></ul><p><hr></p><p>The workshop will be facilitated by&nbsp;<a href="https://www.ncyte.net/about-us/about/leadership-institutions/dr-john-sands" target="_blank"><strong>Dr. John Sands</strong></a>&nbsp;who has over 30 years of&nbsp;experience in education and workforce research in data communications, manufacturing technologies, information technology, information security management and cybersecurity. He has led previous CMMC workshops and is well versed in CMMC 2.0.</p><p>All attendees will receive an Instructor Guidebook, Student Guidebook, training resources, and a Canvas course package. The workshop is limited to 25 attendees and spots are filling up quickly.</p><p style="text-align: center;"><div><a href="	https://ncytecenter.wildapricot.org/event-5246141 " target="_blank">REGISTER&nbsp;</a></div></p><p align="left">&nbsp;</p>
LOCATION:Virtual\, 
CLASS:PUBLIC
END:VEVENT
END:VCALENDAR
