BEGIN:VCALENDAR
VERSION:2.0
PRODID:NCyTE Center Calendar Creator
METHOD:PUBLISH
BEGIN:VEVENT
DTSTAMP:20230504T100312
DTSTART:20230616T090000
DTEND:20230616T100000
SUMMARY:Monthly Member Meeting
DESCRIPTION:<p style="text-align: center;"></p><p style="text-align: center;">Max Power Lab Demo</p><p style="text-align: center;">June 16, 2023</p><p style="text-align: center;">9:00 am - 10:00 am</p><p style="text-align: center;">Virtual</p><p style="text-align: center;"><a href="	https://ncytecenter.wildapricot.org/event-5151161 " target="_blank"><strong>REGISTER</strong></a></p><p>Don't miss out on this opportunity for high school and college instructors to attend the NCyTE Monthly Member Meeting on MAX Power Labs!</p><p>Join us for a presentation and demo with Christopher Simpson as he delves into the MAX Power Lab Collection. The MAX Power lab collection helps students practice their skills in security investigations and challenges. The collection is available for free on <a href="https://www.clark.center/c/max_power" target="_blank">Clark.Center</a>.</p><p>&nbsp;</p>
X-ALT-DESC;FMTTYPE=text/html:<p style="text-align: center;"></p><p style="text-align: center;">Max Power Lab Demo</p><p style="text-align: center;">June 16, 2023</p><p style="text-align: center;">9:00 am - 10:00 am</p><p style="text-align: center;">Virtual</p><p style="text-align: center;"><a href="	https://ncytecenter.wildapricot.org/event-5151161 " target="_blank"><strong>REGISTER</strong></a></p><p>Don't miss out on this opportunity for high school and college instructors to attend the NCyTE Monthly Member Meeting on MAX Power Labs!</p><p>Join us for a presentation and demo with Christopher Simpson as he delves into the MAX Power Lab Collection. The MAX Power lab collection helps students practice their skills in security investigations and challenges. The collection is available for free on <a href="https://www.clark.center/c/max_power" target="_blank">Clark.Center</a>.</p><p>&nbsp;</p>
LOCATION:Virtual\, 
CLASS:PUBLIC
END:VEVENT
END:VCALENDAR
