BEGIN:VCALENDAR
VERSION:2.0
PRODID:NCyTE Center Calendar Creator
METHOD:PUBLISH
BEGIN:VEVENT
DTSTAMP:20221020T125750
DTSTART:20221021T090000
DTEND:20221021T100000
SUMMARY:NCyTE Member Meeting
DESCRIPTION:<p data-wacontent="4" data-wacontenttag="P" align="center">&nbsp;</p><p data-wacontent="4" data-wacontenttag="P" align="center"><br><strong data-wacontent="12" data-wacontenttag="STRONG" style="text-align: left;">Cybersecurity Infrastructure Security Agency (CISA) &amp; skillsgapp</strong></p><p data-wacontent="8" data-wacontenttag="P" align="center">An NCyTE Center Member Meeting<br data-wacontent="17" data-wacontenttag="BR"><em data-wacontent="20" data-wacontenttag="EM">Friday, October 21, 2022 9:00am - 10:00am (PST)</em></p><h2 style="text-align: center;"><a href="https://ncytecenter.wildapricot.org/event-4645965" target="_blank">REGISTER TO ATTEND</a></h2><p>Attend NCyTE's October Member Meeting for presentations from the Cybersecurity Infrastructure Security Agency's (CISA) and skillsgapp.</p><p>CISA will cover their efforts to increase the security of critical networks, current security threats, and a new hiring initiative. And skillsgap will cover their innovative (and fun!) cyber workforce initiative “Cyber Watchdog.”</p><p><strong>CISA speaker:</strong>&nbsp;Anastacia "Staci" Webster from the Office of the Chief Learning Officer will discuss CISA’s efforts to protect the federal ".gov" domain of civilian government networks and collaborate with the private sector - the ".com" domain - to increase the security of critical networks, and the CISA Community College hiring initiative -&nbsp;Student &amp; Recent Graduate Programs.&nbsp;&nbsp;</p><p>Ms. Webster joined the Cybersecurity and Infrastructure Security Agency (CISA) in July of 2020 and currently serves as the Academic Programs Lead for the Academic Partnerships and Outreach (APO) sub-division within the Office of the Chief Learning Officer (OCLO)&nbsp;within CISA. She oversees the CyberCorps®: Scholarship for Service (SFS) and National Centers of Academic Excellence in Cybersecurity (NCAE-C) programs.</p><p><strong>skillsgapp speakers:</strong>&nbsp;Co-Founders Tina Zwolinski and Cynthia Jenkins will share “Cyber Watchdog” - a geo-location-based mobile game deployed in San Bernardino County, CA. The game is designed to provide middle and high school-aged youth+ - specifically in under-resourced communities - awareness of and proficiencies in careers related to Cybersecurity/IT, and the regionally-specific pathways.</p><p>Players can “try on” different cyber careers in non-threatening environments and see themselves in the jobs as the avatar selection supports DEI. And the real game changer, schools or industry can recruit players for programs and jobs.</p><p>Who should attend: Industry, High school teachers, university and college faculty, and students.</p><p data-wacontent="95" data-wacontenttag="P" style="text-align: center;"><a href="	https://ncytecenter.wildapricot.org/event-4645965 " target="_blank"><span style="color: rgb(255, 0, 0);">REGISTER TO ATTEND</span></a></p><p data-wacontent="95" data-wacontenttag="P"></p><p data-wacontent="95" data-wacontenttag="P">&nbsp;</p><p data-wacontent="95" data-wacontenttag="P">NCyTE is funded by a National Science Foundation Advanced Technological Education Center Grant No. 2054724.<abbr data-wawebkitcopymarker="1663267287243">&nbsp;</abbr></p><p data-wacontent="95" data-wacontenttag="P">&nbsp;</p><abbr data-wawebkitcopymarker="1663267235858">&nbsp;</abbr>
X-ALT-DESC;FMTTYPE=text/html:<p data-wacontent="4" data-wacontenttag="P" align="center">&nbsp;</p><p data-wacontent="4" data-wacontenttag="P" align="center"><br><strong data-wacontent="12" data-wacontenttag="STRONG" style="text-align: left;">Cybersecurity Infrastructure Security Agency (CISA) &amp; skillsgapp</strong></p><p data-wacontent="8" data-wacontenttag="P" align="center">An NCyTE Center Member Meeting<br data-wacontent="17" data-wacontenttag="BR"><em data-wacontent="20" data-wacontenttag="EM">Friday, October 21, 2022 9:00am - 10:00am (PST)</em></p><h2 style="text-align: center;"><a href="https://ncytecenter.wildapricot.org/event-4645965" target="_blank">REGISTER TO ATTEND</a></h2><p>Attend NCyTE's October Member Meeting for presentations from the Cybersecurity Infrastructure Security Agency's (CISA) and skillsgapp.</p><p>CISA will cover their efforts to increase the security of critical networks, current security threats, and a new hiring initiative. And skillsgap will cover their innovative (and fun!) cyber workforce initiative “Cyber Watchdog.”</p><p><strong>CISA speaker:</strong>&nbsp;Anastacia "Staci" Webster from the Office of the Chief Learning Officer will discuss CISA’s efforts to protect the federal ".gov" domain of civilian government networks and collaborate with the private sector - the ".com" domain - to increase the security of critical networks, and the CISA Community College hiring initiative -&nbsp;Student &amp; Recent Graduate Programs.&nbsp;&nbsp;</p><p>Ms. Webster joined the Cybersecurity and Infrastructure Security Agency (CISA) in July of 2020 and currently serves as the Academic Programs Lead for the Academic Partnerships and Outreach (APO) sub-division within the Office of the Chief Learning Officer (OCLO)&nbsp;within CISA. She oversees the CyberCorps®: Scholarship for Service (SFS) and National Centers of Academic Excellence in Cybersecurity (NCAE-C) programs.</p><p><strong>skillsgapp speakers:</strong>&nbsp;Co-Founders Tina Zwolinski and Cynthia Jenkins will share “Cyber Watchdog” - a geo-location-based mobile game deployed in San Bernardino County, CA. The game is designed to provide middle and high school-aged youth+ - specifically in under-resourced communities - awareness of and proficiencies in careers related to Cybersecurity/IT, and the regionally-specific pathways.</p><p>Players can “try on” different cyber careers in non-threatening environments and see themselves in the jobs as the avatar selection supports DEI. And the real game changer, schools or industry can recruit players for programs and jobs.</p><p>Who should attend: Industry, High school teachers, university and college faculty, and students.</p><p data-wacontent="95" data-wacontenttag="P" style="text-align: center;"><a href="	https://ncytecenter.wildapricot.org/event-4645965 " target="_blank"><span style="color: rgb(255, 0, 0);">REGISTER TO ATTEND</span></a></p><p data-wacontent="95" data-wacontenttag="P"></p><p data-wacontent="95" data-wacontenttag="P">&nbsp;</p><p data-wacontent="95" data-wacontenttag="P">NCyTE is funded by a National Science Foundation Advanced Technological Education Center Grant No. 2054724.<abbr data-wawebkitcopymarker="1663267287243">&nbsp;</abbr></p><p data-wacontent="95" data-wacontenttag="P">&nbsp;</p><abbr data-wawebkitcopymarker="1663267235858">&nbsp;</abbr>
LOCATION:Virtual\, 
CLASS:PUBLIC
END:VEVENT
END:VCALENDAR
