BEGIN:VCALENDAR
VERSION:2.0
PRODID:NCyTE Center Calendar Creator
METHOD:PUBLISH
BEGIN:VEVENT
DTSTAMP:20230127T163533
DTSTART:20230417T080000
DTEND:20230419T170000
SUMMARY:National Security Institute's 36th Annual IMPACT Conference
DESCRIPTION:<p data-wacontent="7" data-wacontenttag="P" align="center"><b data-wacontent="62" data-wacontenttag="B">National Security Institute's 36th Annual IMPACT 2023</b></p><p align="center" data-wacontent="63" data-wacontenttag="P"><b data-wacontent="64" data-wacontenttag="B">April 17-19, 2023</b></p><p align="center" data-wacontent="69" data-wacontenttag="P"><b data-wacontent="70" data-wacontenttag="B">Chantilly, Virginia</b></p><p data-wacontent="21" data-wacontenttag="P">&nbsp;</p><p data-wacontent="83" data-wacontenttag="P">NSI’s IMPACT program delivers expert training on critical aspects of your security program. From NISPOM compliance, security clearance processing, risk management framework, adjudication, CUI, insider threats, security awareness and education, CMMC, Trusted Workforce 2.0 and much more.&nbsp;</p><p data-wacontent="81" data-wacontenttag="P">Return to work with new ideas, best practices and battle-tested solutions to reduce risks to classified and sensitive information from a growing array of security threats.</p><p data-wacontent="31" data-wacontenttag="P" align="center"><a href="https://www.nsi.org/events/impact-2023/" target="_blank" data-wacontent="85" data-wacontenttag="A">Register to attend</a></p><abbr data-wawebkitcopymarker="1674865810389">&nbsp;</abbr>
X-ALT-DESC;FMTTYPE=text/html:<p data-wacontent="7" data-wacontenttag="P" align="center"><b data-wacontent="62" data-wacontenttag="B">National Security Institute's 36th Annual IMPACT 2023</b></p><p align="center" data-wacontent="63" data-wacontenttag="P"><b data-wacontent="64" data-wacontenttag="B">April 17-19, 2023</b></p><p align="center" data-wacontent="69" data-wacontenttag="P"><b data-wacontent="70" data-wacontenttag="B">Chantilly, Virginia</b></p><p data-wacontent="21" data-wacontenttag="P">&nbsp;</p><p data-wacontent="83" data-wacontenttag="P">NSI’s IMPACT program delivers expert training on critical aspects of your security program. From NISPOM compliance, security clearance processing, risk management framework, adjudication, CUI, insider threats, security awareness and education, CMMC, Trusted Workforce 2.0 and much more.&nbsp;</p><p data-wacontent="81" data-wacontenttag="P">Return to work with new ideas, best practices and battle-tested solutions to reduce risks to classified and sensitive information from a growing array of security threats.</p><p data-wacontent="31" data-wacontenttag="P" align="center"><a href="https://www.nsi.org/events/impact-2023/" target="_blank" data-wacontent="85" data-wacontenttag="A">Register to attend</a></p><abbr data-wawebkitcopymarker="1674865810389">&nbsp;</abbr>
LOCATION:
CLASS:PUBLIC
END:VEVENT
END:VCALENDAR
