BEGIN:VCALENDAR
VERSION:2.0
PRODID:NCyTE Center Calendar Creator
METHOD:PUBLISH
BEGIN:VEVENT
DTSTAMP:20230127T160328
DTSTART:20230414T000000
DTEND:20230416T235900
SUMMARY:National Cyber League 2023 Spring Season
DESCRIPTION:<h3 header="" light"=""><span style="font-size: 22.4px;">In the NCL Games, students work to solve challenges such as identifying hackers from forensic data, pentesting and auditing vulnerable websites, recovering from ransomware attacks, and more. Participate in the season to track your skills growth with an NCL Scouting Report or represent your school in the national Cyber Power Rankings. Whether you are building your skills or competing for fun, NCL has something for you.</span></h3><p header=""><h3 header="" light"=""><span style="font-size: 22.4px;"></span><a href="https://cyberskyline.com/events/ncl" target="_blank">Registration for Team</a></h3></p>
X-ALT-DESC;FMTTYPE=text/html:<h3 header="" light"=""><span style="font-size: 22.4px;">In the NCL Games, students work to solve challenges such as identifying hackers from forensic data, pentesting and auditing vulnerable websites, recovering from ransomware attacks, and more. Participate in the season to track your skills growth with an NCL Scouting Report or represent your school in the national Cyber Power Rankings. Whether you are building your skills or competing for fun, NCL has something for you.</span></h3><p header=""><h3 header="" light"=""><span style="font-size: 22.4px;"></span><a href="https://cyberskyline.com/events/ncl" target="_blank">Registration for Team</a></h3></p>
LOCATION:
CLASS:PUBLIC
END:VEVENT
END:VCALENDAR
