BEGIN:VCALENDAR
VERSION:2.0
PRODID:NCyTE Center Calendar Creator
METHOD:PUBLISH
BEGIN:VEVENT
DTSTAMP:20230313T144651
DTSTART:20230602T080000
DTEND:20230602T140000
SUMMARY:Security+
DESCRIPTION:<p style="text-align: center;"></p><p style="text-align: center;">Every Friday in June</p><p style="text-align: center;">8:00 am - 2:00 pm PST</p><p data-wacontent="32" data-wacontenttag="P" align="left"><em data-wacontent="34" data-wacontenttag="EM">This workshop is intended for&nbsp;<span data-wacontent="38" data-wacontenttag="STRONG">community college faculty</span>&nbsp;interested&nbsp;in becoming cybersecurity faculty or faculty wishing to expand their knowledge, earn an industry certification, and strengthen their ability to incorporate new cybersecurity content in their community college curriculum.</em></p><p data-wacontent="32" data-wacontenttag="P" align="left"><em data-wacontent="34" data-wacontenttag="EM"><hr></em></p><p data-wacontent="41" data-wacontenttag="P"><strong data-wacontent="44" data-wacontenttag="STRONG">About the Workshop:&nbsp;</strong></p><p data-wacontent="45" data-wacontenttag="P">CompTIA Security+ is the first security certification IT professionals should earn. It establishes the core knowledge required of any cybersecurity role and provides a springboard to intermediate level cybersecurity jobs.</p><p data-wacontent="47" data-wacontenttag="P">CompTIA Security+ is a globally trusted, vendor-neutral certification that validates the baseline skills necessary to perform core security functions and pursue an IT security career.</p><p data-wacontent="49" data-wacontenttag="P">Security+ incorporates best practices in hands-on troubleshooting, this workshop will ensure candidates have practical security problem-solving skills required to:</p><ul data-wacontent="51" data-wacontenttag="UL">    <li data-wacontent="52" data-wacontenttag="LI"><strong data-wacontent="55" data-wacontenttag="STRONG">Assess</strong>&nbsp;the security posture of an enterprise environment and recommend and implement appropriate security solutions</li>    <li data-wacontent="56" data-wacontenttag="LI"><strong data-wacontent="59" data-wacontenttag="STRONG">Monitor and secure</strong>&nbsp;hybrid environments, including cloud, mobile, and IoT</li>    <li data-wacontent="60" data-wacontenttag="LI"><strong data-wacontent="63" data-wacontenttag="STRONG">Operate</strong>&nbsp;with an awareness of applicable laws and policies, including principles of governance, risk, and compliance</li>    <li data-wacontent="64" data-wacontenttag="LI"><strong data-wacontent="67" data-wacontenttag="STRONG">Identify, analyze, and respond</strong>&nbsp;to security events and incidents</li></ul><p data-wacontent="64" data-wacontenttag="LI"><hr></p><p data-wacontent="68" data-wacontenttag="P"><span data-wacontent="71" data-wacontenttag="STRONG">Stipend:</span></p><p data-wacontent="72" data-wacontenttag="P">Eligible community college faculty who successfully pass the&nbsp;CompTIA Security+&nbsp;certification exam will receive a stipend toward the cost of the certification.</p><p data-wacontent="76" data-wacontenttag="P">To be eligible for the stipend, you must:</p><ul data-wacontent="78" data-wacontenttag="UL">    <li data-wacontent="79" data-wacontenttag="LI">Currently teach credit courses (full-time or adjunct) at a regionally accredited U.S. community or technical college</li>    <li data-wacontent="81" data-wacontenttag="LI">Provide evidence that you passed the certification exam, such as a copy of the certification or exam report</li>    <li data-wacontent="83" data-wacontenttag="LI">Provide a current W9 tax form to the NCyTE Center</li></ul><p data-wacontent="83" data-wacontenttag="LI"><hr></p><p data-wacontent="95" data-wacontenttag="P"><strong data-wacontent="97" data-wacontenttag="STRONG">Facilitator:</strong></p><p data-wacontent="98" data-wacontenttag="P"><a data-wacontent="101" data-wacontenttag="A" href="https://www.ncyte.net/Home/Components/StaffDirectory/StaffDirectory/10/24">Dr. John Sands,</a>&nbsp;Co-PI of NCyTE and Director of the Center for Systems Security and Information Assurance (CSSIA) and professor at Moraine Valley Community College in Chicago, and his team of expert instructors will lead the workshop.</p><p data-wacontent="104" data-wacontenttag="P" align="center" style="text-align: center;"><a href="https://ncytecenter.wildapricot.org/event-5136612" target="_blank">&nbsp;REGISTER TO ATTEND</a></p><p data-wacontent="104" data-wacontenttag="P" align="center" style="text-align: center;">&nbsp;</p><p data-wacontent="104" data-wacontenttag="P" align="center" style="text-align: left;">&nbsp;This workshop is funded by a National Science Foundation grant #2054724</p><p data-wacontent="104" data-wacontenttag="P" align="center" style="text-align: left;">&nbsp;</p><p data-wacontent="83" data-wacontenttag="LI"><div data-wacontent="103" data-wacontenttag="DIV"></div><abbr data-wawebkitcopymarker="1674856381765">&nbsp;</abbr><hr></p>
X-ALT-DESC;FMTTYPE=text/html:<p style="text-align: center;"></p><p style="text-align: center;">Every Friday in June</p><p style="text-align: center;">8:00 am - 2:00 pm PST</p><p data-wacontent="32" data-wacontenttag="P" align="left"><em data-wacontent="34" data-wacontenttag="EM">This workshop is intended for&nbsp;<span data-wacontent="38" data-wacontenttag="STRONG">community college faculty</span>&nbsp;interested&nbsp;in becoming cybersecurity faculty or faculty wishing to expand their knowledge, earn an industry certification, and strengthen their ability to incorporate new cybersecurity content in their community college curriculum.</em></p><p data-wacontent="32" data-wacontenttag="P" align="left"><em data-wacontent="34" data-wacontenttag="EM"><hr></em></p><p data-wacontent="41" data-wacontenttag="P"><strong data-wacontent="44" data-wacontenttag="STRONG">About the Workshop:&nbsp;</strong></p><p data-wacontent="45" data-wacontenttag="P">CompTIA Security+ is the first security certification IT professionals should earn. It establishes the core knowledge required of any cybersecurity role and provides a springboard to intermediate level cybersecurity jobs.</p><p data-wacontent="47" data-wacontenttag="P">CompTIA Security+ is a globally trusted, vendor-neutral certification that validates the baseline skills necessary to perform core security functions and pursue an IT security career.</p><p data-wacontent="49" data-wacontenttag="P">Security+ incorporates best practices in hands-on troubleshooting, this workshop will ensure candidates have practical security problem-solving skills required to:</p><ul data-wacontent="51" data-wacontenttag="UL">    <li data-wacontent="52" data-wacontenttag="LI"><strong data-wacontent="55" data-wacontenttag="STRONG">Assess</strong>&nbsp;the security posture of an enterprise environment and recommend and implement appropriate security solutions</li>    <li data-wacontent="56" data-wacontenttag="LI"><strong data-wacontent="59" data-wacontenttag="STRONG">Monitor and secure</strong>&nbsp;hybrid environments, including cloud, mobile, and IoT</li>    <li data-wacontent="60" data-wacontenttag="LI"><strong data-wacontent="63" data-wacontenttag="STRONG">Operate</strong>&nbsp;with an awareness of applicable laws and policies, including principles of governance, risk, and compliance</li>    <li data-wacontent="64" data-wacontenttag="LI"><strong data-wacontent="67" data-wacontenttag="STRONG">Identify, analyze, and respond</strong>&nbsp;to security events and incidents</li></ul><p data-wacontent="64" data-wacontenttag="LI"><hr></p><p data-wacontent="68" data-wacontenttag="P"><span data-wacontent="71" data-wacontenttag="STRONG">Stipend:</span></p><p data-wacontent="72" data-wacontenttag="P">Eligible community college faculty who successfully pass the&nbsp;CompTIA Security+&nbsp;certification exam will receive a stipend toward the cost of the certification.</p><p data-wacontent="76" data-wacontenttag="P">To be eligible for the stipend, you must:</p><ul data-wacontent="78" data-wacontenttag="UL">    <li data-wacontent="79" data-wacontenttag="LI">Currently teach credit courses (full-time or adjunct) at a regionally accredited U.S. community or technical college</li>    <li data-wacontent="81" data-wacontenttag="LI">Provide evidence that you passed the certification exam, such as a copy of the certification or exam report</li>    <li data-wacontent="83" data-wacontenttag="LI">Provide a current W9 tax form to the NCyTE Center</li></ul><p data-wacontent="83" data-wacontenttag="LI"><hr></p><p data-wacontent="95" data-wacontenttag="P"><strong data-wacontent="97" data-wacontenttag="STRONG">Facilitator:</strong></p><p data-wacontent="98" data-wacontenttag="P"><a data-wacontent="101" data-wacontenttag="A" href="https://www.ncyte.net/Home/Components/StaffDirectory/StaffDirectory/10/24">Dr. John Sands,</a>&nbsp;Co-PI of NCyTE and Director of the Center for Systems Security and Information Assurance (CSSIA) and professor at Moraine Valley Community College in Chicago, and his team of expert instructors will lead the workshop.</p><p data-wacontent="104" data-wacontenttag="P" align="center" style="text-align: center;"><a href="https://ncytecenter.wildapricot.org/event-5136612" target="_blank">&nbsp;REGISTER TO ATTEND</a></p><p data-wacontent="104" data-wacontenttag="P" align="center" style="text-align: center;">&nbsp;</p><p data-wacontent="104" data-wacontenttag="P" align="center" style="text-align: left;">&nbsp;This workshop is funded by a National Science Foundation grant #2054724</p><p data-wacontent="104" data-wacontenttag="P" align="center" style="text-align: left;">&nbsp;</p><p data-wacontent="83" data-wacontenttag="LI"><div data-wacontent="103" data-wacontenttag="DIV"></div><abbr data-wawebkitcopymarker="1674856381765">&nbsp;</abbr><hr></p>
LOCATION:Virtual\, 
CLASS:PUBLIC
END:VEVENT
END:VCALENDAR
