BEGIN:VCALENDAR
VERSION:2.0
PRODID:NCyTE Center Calendar Creator
METHOD:PUBLISH
BEGIN:VEVENT
DTSTAMP:20230609T142353
DTSTART:20230808T080000
DTEND:20230812T140000
SUMMARY:CISSP: Certified Information Systems Security Professional
DESCRIPTION:<p style="text-align: center;"></p><p style="text-align: center;">August 8-12, 2023</p><p style="text-align: center;">8:00 am - 2:00 pm PST</p><p style="text-align: left;">Earning the CISSP proves you have what it takes to effectively design, implement, and manage a best-in-class&nbsp;cybersecurity program. With a CISSP, you validate your expertise and become an (ISC)² member, unlocking a&nbsp;broad array of exclusive resources, educational tools, and peer-to-peer networking opportunities.</p><p style="text-align: left;">This course provides all student materials, flash cards and the CISSP CBK. As an (ISC)² Global Academic&nbsp;Program (GAP) Member, CSSIA will be offering the CISSP – Certified Information Systems Security Professional&nbsp;(CISSP) training. This training course will review and refresh your information security knowledge and help&nbsp;identify areas you may need to study for the CISSP exam. The CISSP exam tests one’s competence in the ten&nbsp;CISSP domains of the (ISC)² CBK, which cover critical topics in security today, including risk management, cloud&nbsp;computing, mobile security, application development security and more; it is one of the most sought-after&nbsp;certifications in today’s information security industry. Instruction will also utilize labs developed that align with&nbsp;the NSA Knowledge Units.</p><p style="text-align: center;"><a href="https://ncytecenter.wildapricot.org/event-5151690 " target="_blank">REGISTER TO ATTEND</a></p><p style="text-align: left;">&nbsp;</p><p style="text-align: left;">&nbsp;This workshop is provided by a National Science Foundation grant #2054724</p>
X-ALT-DESC;FMTTYPE=text/html:<p style="text-align: center;"></p><p style="text-align: center;">August 8-12, 2023</p><p style="text-align: center;">8:00 am - 2:00 pm PST</p><p style="text-align: left;">Earning the CISSP proves you have what it takes to effectively design, implement, and manage a best-in-class&nbsp;cybersecurity program. With a CISSP, you validate your expertise and become an (ISC)² member, unlocking a&nbsp;broad array of exclusive resources, educational tools, and peer-to-peer networking opportunities.</p><p style="text-align: left;">This course provides all student materials, flash cards and the CISSP CBK. As an (ISC)² Global Academic&nbsp;Program (GAP) Member, CSSIA will be offering the CISSP – Certified Information Systems Security Professional&nbsp;(CISSP) training. This training course will review and refresh your information security knowledge and help&nbsp;identify areas you may need to study for the CISSP exam. The CISSP exam tests one’s competence in the ten&nbsp;CISSP domains of the (ISC)² CBK, which cover critical topics in security today, including risk management, cloud&nbsp;computing, mobile security, application development security and more; it is one of the most sought-after&nbsp;certifications in today’s information security industry. Instruction will also utilize labs developed that align with&nbsp;the NSA Knowledge Units.</p><p style="text-align: center;"><a href="https://ncytecenter.wildapricot.org/event-5151690 " target="_blank">REGISTER TO ATTEND</a></p><p style="text-align: left;">&nbsp;</p><p style="text-align: left;">&nbsp;This workshop is provided by a National Science Foundation grant #2054724</p>
LOCATION:Virtual\, 
CLASS:PUBLIC
END:VEVENT
END:VCALENDAR
