BEGIN:VCALENDAR
VERSION:2.0
PRODID:NCyTE Center Calendar Creator
METHOD:PUBLISH
BEGIN:VEVENT
DTSTAMP:20230127T125411
DTSTART:20230217T080000
DTEND:20230218T140000
SUMMARY:Faculty Development Academy: Cybersecurity and Programming for IoT Technicians
DESCRIPTION:<p style="text-align: center;"></p><p data-wacontent="8" data-wacontenttag="P" align="center"><strong data-wacontent="10" data-wacontenttag="STRONG">Faculty Development Academy:</strong></p><p data-wacontent="12" data-wacontenttag="P" align="center"><strong data-wacontent="14" data-wacontenttag="STRONG"><em data-wacontent="15" data-wacontenttag="EM">Cybersecurity and Programming<br data-wacontent="16" data-wacontenttag="BR">for IoT Technicians</em></strong></p><p data-wacontent="17" data-wacontenttag="P" align="center">Virtual | February 17-18, 24-25, 2023<strong data-wacontent="21" data-wacontenttag="STRONG"><br data-wacontent="22" data-wacontenttag="BR"><strong data-wacontent="23" data-wacontenttag="STRONG">8AM - 2PM Pacific / 9AM - 3PM Mountain / 10AM - 4PM Central / 11AM - 5PM Eastern</strong></strong></p><p data-wacontent="29" data-wacontenttag="P">This course is intended to introduce&nbsp;<strong data-wacontent="32" data-wacontenttag="STRONG">community college</strong>&nbsp;<strong data-wacontent="33" data-wacontenttag="STRONG">instructors</strong>&nbsp;to the concepts of IoT, the Internet of Things, embedded systems, and cybersecurity best practices through a series of hands-on projects built around Arduino microcontrollers, an array of electronic components, sensors, and actuators, and computer programming.</p><p data-wacontent="34" data-wacontenttag="P">This workshop is designed to help instructors gain an understanding and proficiency in the technologies centered around the Internet of Things, and how to teach these concepts. Students will explore Microsoft micro:bit as an alternative to the Arduino microcontroller and create a project either based on one of those discussed in class or a project of your own design.</p><p data-wacontent="36" data-wacontenttag="P">The workshop will be delivered virtually through Zoom and Canvas. Students will be asked to complete several Arduino and Microsoft micro:bit projects, some of which will be completed virtually with the group. Additionally, the students will complete the review questions and quizzes after each project. Content covered during this course will prepare you for the Arduino Fundamentals Certification Exam.</p><p data-wacontent="38" data-wacontenttag="P">Participants in this workshop will take entry and exit surveys to assess their prior and achieved knowledge. These surveys will include:</p><ul data-wacontent="40" data-wacontenttag="UL">    <li data-wacontent="41" data-wacontenttag="LI">Coding knowledge and experience</li>    <li data-wacontent="44" data-wacontenttag="LI">Electronics knowledge and experience</li>    <li data-wacontent="47" data-wacontenttag="LI">Tinkercad knowledge and experience</li></ul><p data-wacontent="47" data-wacontenttag="LI"><hr></p><p data-wacontent="51" data-wacontenttag="P"><strong data-wacontent="57" data-wacontenttag="STRONG">Stipend:&nbsp;<br data-wacontent="58" data-wacontenttag="BR"><br data-wacontent="59" data-wacontenttag="BR"></strong>Eligible faculty will receive up to a $1,000 stipend upon successfully completing the academy.&nbsp;To be eligible, you must:</p><p data-wacontent="17" data-wacontenttag="P" align="center"><strong data-wacontent="21" data-wacontenttag="STRONG"><strong data-wacontent="23" data-wacontenttag="STRONG"><div data-wacontent="50" data-wacontenttag="DIV"><ul data-wacontent="61" data-wacontenttag="UL">    <li data-wacontent="62" data-wacontenttag="LI" style="text-align: left;">Currently teach credit courses (full-time or adjunct) at a regionally accredited U.S. community or technical college&nbsp;</li>    <li data-wacontent="67" data-wacontenttag="LI" style="text-align: left;">Attend all sessions and complete the required assignments/projects</li>    <li data-wacontent="72" data-wacontenttag="LI" style="text-align: left;">Stipends will be prioritized to individuals that have not received NCyTE support in the past year</li></ul></div><abbr data-wawebkitcopymarker="1674519570056"><hr></abbr></strong></strong></p><p data-wacontent="17" data-wacontenttag="P" align="center" style="text-align: left;"><strong data-wacontent="21" data-wacontenttag="STRONG"><strong data-wacontent="23" data-wacontenttag="STRONG"><abbr data-wawebkitcopymarker="1674519570056">Instructors:</abbr></strong></strong></p><ul>    <li data-wacontent="17" data-wacontenttag="P" align="center" style="text-align: left;"><strong data-wacontent="21" data-wacontenttag="STRONG"><strong data-wacontent="23" data-wacontenttag="STRONG"><abbr data-wawebkitcopymarker="1674519570056">Dr. Kristine Christensen</abbr></strong></strong></li>    <li data-wacontent="17" data-wacontenttag="P" align="center" style="text-align: left;"><strong data-wacontent="21" data-wacontenttag="STRONG"><strong data-wacontent="23" data-wacontenttag="STRONG"><abbr data-wawebkitcopymarker="1674519570056">Chuck Bales</abbr></strong></strong></li></ul><p data-wacontent="17" data-wacontenttag="P" align="center" style="text-align: left;"><strong data-wacontent="21" data-wacontenttag="STRONG"><strong data-wacontent="23" data-wacontenttag="STRONG"><abbr data-wawebkitcopymarker="1674519570056"><hr></abbr></strong></strong></p><p data-wacontent="17" data-wacontenttag="P" align="center" style="text-align: center;"><span data-wacontent="21" data-wacontenttag="STRONG"><span data-wacontent="23" data-wacontenttag="STRONG"><abbr data-wawebkitcopymarker="1674519570056"><a href="	https://ncytecenter.wildapricot.org/event-5108384 " target="_blank">&nbsp;REGISTER TO ATTEND</a></abbr></span></span></p><p data-wacontent="17" data-wacontenttag="P" align="center" style="text-align: center;"><span data-wacontent="21" data-wacontenttag="STRONG"><span data-wacontent="23" data-wacontenttag="STRONG"><abbr data-wawebkitcopymarker="1674519570056"><a href="	https://ncytecenter.wildapricot.org/event-5108384 " target="_blank">&nbsp;</a></abbr></span></span><span data-wacontent="21" data-wacontenttag="STRONG" style="text-align: left;"><span data-wacontent="23" data-wacontenttag="STRONG"><abbr data-wawebkitcopymarker="1674519570056">&nbsp;</abbr></span></span><span style="text-align: left;">This event is funded by the Microsoft&nbsp;Accelerating Community College Cybersecurity Excellence (ACCCE)&nbsp;grant&nbsp;awarded to Whatcom Community College (Grant No. 2021080009)</span><abbr data-wawebkitcopymarker="1674519749011" style="text-align: left;">&nbsp;</abbr></p>
X-ALT-DESC;FMTTYPE=text/html:<p style="text-align: center;"></p><p data-wacontent="8" data-wacontenttag="P" align="center"><strong data-wacontent="10" data-wacontenttag="STRONG">Faculty Development Academy:</strong></p><p data-wacontent="12" data-wacontenttag="P" align="center"><strong data-wacontent="14" data-wacontenttag="STRONG"><em data-wacontent="15" data-wacontenttag="EM">Cybersecurity and Programming<br data-wacontent="16" data-wacontenttag="BR">for IoT Technicians</em></strong></p><p data-wacontent="17" data-wacontenttag="P" align="center">Virtual | February 17-18, 24-25, 2023<strong data-wacontent="21" data-wacontenttag="STRONG"><br data-wacontent="22" data-wacontenttag="BR"><strong data-wacontent="23" data-wacontenttag="STRONG">8AM - 2PM Pacific / 9AM - 3PM Mountain / 10AM - 4PM Central / 11AM - 5PM Eastern</strong></strong></p><p data-wacontent="29" data-wacontenttag="P">This course is intended to introduce&nbsp;<strong data-wacontent="32" data-wacontenttag="STRONG">community college</strong>&nbsp;<strong data-wacontent="33" data-wacontenttag="STRONG">instructors</strong>&nbsp;to the concepts of IoT, the Internet of Things, embedded systems, and cybersecurity best practices through a series of hands-on projects built around Arduino microcontrollers, an array of electronic components, sensors, and actuators, and computer programming.</p><p data-wacontent="34" data-wacontenttag="P">This workshop is designed to help instructors gain an understanding and proficiency in the technologies centered around the Internet of Things, and how to teach these concepts. Students will explore Microsoft micro:bit as an alternative to the Arduino microcontroller and create a project either based on one of those discussed in class or a project of your own design.</p><p data-wacontent="36" data-wacontenttag="P">The workshop will be delivered virtually through Zoom and Canvas. Students will be asked to complete several Arduino and Microsoft micro:bit projects, some of which will be completed virtually with the group. Additionally, the students will complete the review questions and quizzes after each project. Content covered during this course will prepare you for the Arduino Fundamentals Certification Exam.</p><p data-wacontent="38" data-wacontenttag="P">Participants in this workshop will take entry and exit surveys to assess their prior and achieved knowledge. These surveys will include:</p><ul data-wacontent="40" data-wacontenttag="UL">    <li data-wacontent="41" data-wacontenttag="LI">Coding knowledge and experience</li>    <li data-wacontent="44" data-wacontenttag="LI">Electronics knowledge and experience</li>    <li data-wacontent="47" data-wacontenttag="LI">Tinkercad knowledge and experience</li></ul><p data-wacontent="47" data-wacontenttag="LI"><hr></p><p data-wacontent="51" data-wacontenttag="P"><strong data-wacontent="57" data-wacontenttag="STRONG">Stipend:&nbsp;<br data-wacontent="58" data-wacontenttag="BR"><br data-wacontent="59" data-wacontenttag="BR"></strong>Eligible faculty will receive up to a $1,000 stipend upon successfully completing the academy.&nbsp;To be eligible, you must:</p><p data-wacontent="17" data-wacontenttag="P" align="center"><strong data-wacontent="21" data-wacontenttag="STRONG"><strong data-wacontent="23" data-wacontenttag="STRONG"><div data-wacontent="50" data-wacontenttag="DIV"><ul data-wacontent="61" data-wacontenttag="UL">    <li data-wacontent="62" data-wacontenttag="LI" style="text-align: left;">Currently teach credit courses (full-time or adjunct) at a regionally accredited U.S. community or technical college&nbsp;</li>    <li data-wacontent="67" data-wacontenttag="LI" style="text-align: left;">Attend all sessions and complete the required assignments/projects</li>    <li data-wacontent="72" data-wacontenttag="LI" style="text-align: left;">Stipends will be prioritized to individuals that have not received NCyTE support in the past year</li></ul></div><abbr data-wawebkitcopymarker="1674519570056"><hr></abbr></strong></strong></p><p data-wacontent="17" data-wacontenttag="P" align="center" style="text-align: left;"><strong data-wacontent="21" data-wacontenttag="STRONG"><strong data-wacontent="23" data-wacontenttag="STRONG"><abbr data-wawebkitcopymarker="1674519570056">Instructors:</abbr></strong></strong></p><ul>    <li data-wacontent="17" data-wacontenttag="P" align="center" style="text-align: left;"><strong data-wacontent="21" data-wacontenttag="STRONG"><strong data-wacontent="23" data-wacontenttag="STRONG"><abbr data-wawebkitcopymarker="1674519570056">Dr. Kristine Christensen</abbr></strong></strong></li>    <li data-wacontent="17" data-wacontenttag="P" align="center" style="text-align: left;"><strong data-wacontent="21" data-wacontenttag="STRONG"><strong data-wacontent="23" data-wacontenttag="STRONG"><abbr data-wawebkitcopymarker="1674519570056">Chuck Bales</abbr></strong></strong></li></ul><p data-wacontent="17" data-wacontenttag="P" align="center" style="text-align: left;"><strong data-wacontent="21" data-wacontenttag="STRONG"><strong data-wacontent="23" data-wacontenttag="STRONG"><abbr data-wawebkitcopymarker="1674519570056"><hr></abbr></strong></strong></p><p data-wacontent="17" data-wacontenttag="P" align="center" style="text-align: center;"><span data-wacontent="21" data-wacontenttag="STRONG"><span data-wacontent="23" data-wacontenttag="STRONG"><abbr data-wawebkitcopymarker="1674519570056"><a href="	https://ncytecenter.wildapricot.org/event-5108384 " target="_blank">&nbsp;REGISTER TO ATTEND</a></abbr></span></span></p><p data-wacontent="17" data-wacontenttag="P" align="center" style="text-align: center;"><span data-wacontent="21" data-wacontenttag="STRONG"><span data-wacontent="23" data-wacontenttag="STRONG"><abbr data-wawebkitcopymarker="1674519570056"><a href="	https://ncytecenter.wildapricot.org/event-5108384 " target="_blank">&nbsp;</a></abbr></span></span><span data-wacontent="21" data-wacontenttag="STRONG" style="text-align: left;"><span data-wacontent="23" data-wacontenttag="STRONG"><abbr data-wawebkitcopymarker="1674519570056">&nbsp;</abbr></span></span><span style="text-align: left;">This event is funded by the Microsoft&nbsp;Accelerating Community College Cybersecurity Excellence (ACCCE)&nbsp;grant&nbsp;awarded to Whatcom Community College (Grant No. 2021080009)</span><abbr data-wawebkitcopymarker="1674519749011" style="text-align: left;">&nbsp;</abbr></p>
LOCATION:
CLASS:PUBLIC
END:VEVENT
END:VCALENDAR
